{"text_format":"1","workbook":"xlsx","n_sheets":30,"sheets":["更新履歴","作業メニュー","確認申請書第一面","確認申請書第二面","確認申請書第二面別紙","確認申請書第三面","確認申請書第四面","確認申請書第四面 (2)","確認申請書第五面","確認申請書第五面 (2)","確認申請書第六面","確認申請書第六面 (２)","計画変更確認申請書第一面","委任状","建築工事届","建築概要書第一面","建築計画概要書第一面別紙","建築計画概要書第二面","建築計画概要書第三面","中間検査申請書第一面","中間検査申請書第二面","中間検査申請書第二面別紙","中間検査申請書第三面","中間検査申請書第四面","完了検査申請書第一面","完了検査申請書第二面","完了検査申請書第二面別紙","完了検査申請書第三面","完了検査申請書第四面","検査予約申込書"],"not_rendered":{"charts":0,"images":2,"macros":1,"external_links":0,"defined_names":20,"comments":13,"pivot_tables":0},"unopened":[],"bounds":{"document_bytes":16777216,"sheet_cells":100000,"rows_first":2000,"rows_last":500,"rows_between":2000,"halvings":0,"cell_chars":16384,"cell_head_chars":4096},"cells_cut":0,"cells_raw":0,"read":"whole","date_system":"1900"}

{"sheet":"更新履歴","index":0,"n_rows":22,"n_cols":6,"rows_kept":22,"cut":false,"hidden":false,"merged":[[20,0,21,0],[20,5,21,5],[17,0,18,0],[17,5,18,5],[13,0,16,0],[13,5,16,5],[2,4,3,4],[2,5,3,5],[2,0,3,0],[5,0,11,0],[5,5,11,5]]}
["更新履歴"]
["バージョン名","番号","シート名","更新箇所","更新内容","更新日"]
["ver.2.3",1,"確認申請書 四面","5ラン、６ラン、7ラン","規則改正による様式の変更","2020-04-01"]
[null,2,"建築計画概要書 二面","18ラン、19ラン"]
["ver.2.4",1,"確認申請書 三面","5ラン","高松市の特定用途制限地域の見直しによるプルダウンリストの変更","2020-07-27"]
["ver.2.5",1,"中間検査申請書　一面",null,"規則改正による様式の変更","2020-09-07"]
[null,2,"中間検査申請書　三面","8ラン","　　　　　　　〃"]
[null,3,"完了検査申請書　一面",null,"　　　　　　　〃"]
[null,4,"中間検査申請書　三面","7ラン","　　　　　　　〃"]
[null,5,"委任状",null,"記載内容の変更"]
[null,6,"建築計画概要書 二面","19ラン","内容が入力できない不具合の修正"]
[null,7,"計画変更確認申請書 一面","申請者氏名","『確認申請書と同じ』ボタンの不具合の修正"]
["ver.2.6",1,"申請書全般","押印ラン","規則改正による様式の変更（押印廃止による変更）","2021-01-01"]
["ver.2.7",1,"建築計画概要書 二面","18ラン","規則改正による様式の変更","2022-04-01"]
[null,2,"建築工事届　二面","1ラン～4ラン、6ラン","　　　　　　　〃"]
[null,3,"建築工事届　三面",null,"　　　　　　　〃"]
[null,4,"建築工事届　四面",null,"　　　　　　　〃"]
["ver.2.8",1,"確認申請書 三面","10ラン、11ラン","規則改正による様式の変更","2023-04-01"]
[null,2,"建築計画概要書 二面","　　　　〃","　　　　　　　〃"]
["ver.2.9",1,"確認申請書 三面","5ラン","さぬき市の特定用途制限地域の制定によるプルダウンリストの追加","2023-06-01"]
["ver.3.0",1,"確認申請書 四面","5ラン、６ラン","規則改正による様式の変更","2024-04-01"]
[null,2,"委任状","委任者欄","押印の廃止"]

{"sheet":"作業メニュー","index":1,"n_rows":46,"n_cols":9,"rows_kept":46,"cut":false,"hidden":false,"merged":[[41,0,41,9],[19,4,19,5],[43,3,43,6],[44,3,44,6],[45,3,45,6],[38,3,38,6],[39,3,39,6],[34,3,34,6],[33,3,33,6],[32,3,32,6],[40,0,40,9],[5,2,6,7],[12,3,12,6],[24,3,24,6],[26,3,26,6],[14,4,14,5],[16,4,16,5],[17,4,17,5],[25,3,25,6],[15,4,15,5],[10,3,10,6],[18,4,18,5],[21,4,21,5],[8,0,8,9],[9,0,9,9]]}
[]
[]
[]
[]
[]
[null,null,"確認・検査申請書作成シート"]
[null,null,null,null,null,null,null,null,"ver.3.0(2024.4.1)"]
[]
["この確認申請書作成システムは株式会社香川県建築住宅センターへの提出書類を作成及び印刷することができます。"]
["※マクロを有効にしてご利用ください。"]
[null,null,"物件名"]
[]
[null,null,null,"作 業 メ ニ ュ ー"]
[]
[null,null,null,null,"申請書作成メニュー"]
[null,null,null,"■","確認申請書",null,"■"]
[null,null,null,"■","計画変更確認申請書",null,"■"]
[null,null,null,"■","検査予約申込書",null,"■"]
[null,null,null,"■","中間検査申請書",null,"■"]
[null,null,null,"■","完了検査申請書",null,"■"]
[]
[null,null,null,null,"印刷メニュー"]
[]
[]
[]
[]
[]
[]
[]
[]
[]
[]
[]
[]
[]
[]
[]
[]
[]
[]
["※シートを選択しての通常の印刷も可能です。"]
["内容に関するご質問、ご要望に関しましては、下記の問い合わせ先にてお受けいたします。"]
[]
[null,null,null,"株式会社香川県建築住宅センター"]
[null,null,null,"TEL 087-832-5270"]
[null,null,null,"http://kgw-kjc.co.jp/"]

{"sheet":"確認申請書第一面","index":2,"n_rows":41,"n_cols":24,"rows_kept":41,"cut":false,"hidden":false,"merged":[[10,0,10,24],[11,0,11,24],[20,14,20,22],[23,14,23,22],[38,14,40,17],[36,0,36,4],[37,0,37,4],[38,5,40,9],[38,10,40,13],[38,0,38,4],[16,16,16,17],[0,0,0,24],[39,0,39,4],[40,0,40,4],[36,5,36,24],[37,18,37,24],[37,14,37,17],[37,10,37,13],[37,5,37,9],[38,18,38,24],[39,18,39,24],[40,18,40,24],[18,14,18,22],[22,14,22,22],[19,14,19,22],[3,0,3,24],[5,0,5,24]]}
["規則別記第二号様式（第一条の三、第三条、第三条の三関係）（Ａ４）"]
[]
[]
["確認申請書（建築物）"]
[]
["（第一面）"]
[]
[]
[]
[]
["　建築基準法第６条第１項又は第６条の２第１項の規定による確認を申請します。この申請書"]
["及び添付図書に記載の事項は、事実に相違ありません。"]
[]
[]
["　株式会社香川県建築住宅センタ－   様"]
[]
[null,null,null,null,null,null,null,null,null,null,null,null,null,null,null,null,"令和",null,null,"年",null,"月",null,"日"]
[]
[]
[null,null,null,null,null,null,null,null,null,null,null,"申請者氏名"]
[]
[]
[]
[null,null,null,null,null,null,null,null,null,null,"設計者氏名",null,null,null,{"$f":"確認申請書第二面!D25","v":0}]
[]
[]
["　《併願申請》"]
["設計住宅性能評価申請",null,null,null,null,null,"□","同時申請",null,null,"□","後日申請",null,null,"□","申請済",null,null,"□","予定無し"]
["適合証明申請",null,null,null,null,null,"□","同時申請",null,null,"□","後日申請",null,null,"□","予定無し"]
[]
[]
["　《確認済証の交付方法》"]
["□","通知があれば、受け取りに行く。",null,null,null,null,null,null,null,null,null,"（通知先：",null,null,"□","建築主",null,null,"□","代理者）"]
["□","送付を希望する。 ",null,null,null,null,null,null,null,null,null,"（通知先：",null,null,"□","建築主",null,null,"□","代理者）"]
[]
[]
["※手数料欄"]
["※受付欄",null,null,null,null,"※消防関係同意欄",null,null,null,null,"※　審　査　欄",null,null,null,"※　決　裁　欄",null,null,null,"※確認番号欄"]
["令和　　年　　月　　日",null,null,null,null,null,null,null,null,null,null,null,null,null,null,null,null,null,"令和　　年　　月　　日"]
["第　　　　　　 　　　　号",null,null,null,null,null,null,null,null,null,null,null,null,null,null,null,null,null,"第　　　　　　　　 　　　　号"]
["係員氏名",null,null,null,null,null,null,null,null,null,null,null,null,null,null,null,null,null,"係員氏名"]

{"sheet":"確認申請書第二面","index":3,"n_rows":184,"n_cols":16,"rows_kept":184,"cut":false,"hidden":false,"merged":[[106,2,106,14],[91,2,91,6],[90,2,90,6],[111,2,111,7],[126,3,126,5],[132,8,132,10],[134,13,134,14],[136,3,136,5],[122,8,122,10],[163,3,163,14],[155,3,155,14],[157,3,157,14],[161,3,161,14],[148,3,148,14],[151,3,151,14],[7,3,7,5],[13,8,13,10],[17,3,17,5],[23,8,23,10],[77,5,77,7],[27,3,27,5],[33,8,33,10],[37,3,37,5],[42,8,42,10],[46,3,46,5],[55,3,55,5],[69,2,69,7],[125,3,125,14],[127,3,127,14],[153,3,153,14],[98,2,98,14],[101,2,101,14],[116,2,116,6],[142,3,142,14],[144,3,144,14],[141,8,141,10],[100,2,100,6],[99,2,99,6],[42,13,42,14],[51,13,51,14],[51,8,51,10],[56,3,56,14],[107,2,107,6],[108,2,108,6],[139,3,139,14],[128,3,128,7],[138,3,138,7],[97,2,97,4],[81,5,81,7],[86,2,86,7],[87,2,87,7],[88,2,88,4],[95,2,95,7],[113,2,113,4],[103,2,103,7],[104,2,104,7],[49,3,49,14],[0,0,0,15],[1,0,1,15],[6,3,6,14],[5,3,5,14],[8,3,8,14],[16,3,16,14],[18,3,18,14],[14,3,14,14],[13,13,13,14],[9,3,9,7],[165,3,165,14],[78,2,78,7],[79,5,79,7],[80,2,80,7],[146,3,146,14],[162,2,162,5],[143,13,143,14],[145,3,145,5],[150,8,150,10],[152,13,152,14],[154,3,154,5],[129,3,129,14],[133,3,133,14],[135,3,135,14],[89,2,89,14],[92,2,92,14],[164,3,164,5],[124,13,124,14],[147,3,147,7],[156,3,156,7],[162,11,162,13],[96,2,96,7],[137,3,137,14],[112,2,112,7],[183,4,183,14],[15,13,15,14],[25,13,25,14],[35,13,35,14],[44,13,44,14],[53,13,53,14],[28,3,28,14],[30,3,30,14],[109,2,109,14],[114,2,114,14],[117,2,117,14],[123,3,123,14],[58,3,58,14],[122,13,122,14],[132,13,132,14],[141,13,141,14],[150,13,150,14],[47,3,47,14],[166,3,166,7],[19,3,19,7],[29,3,29,7],[39,3,39,7],[48,3,48,7],[57,3,57,7],[52,3,52,14],[54,3,54,14],[76,2,76,7],[115,2,115,6],[23,13,23,14],[24,3,24,14],[26,3,26,14],[34,3,34,14],[36,3,36,14],[38,3,38,14],[40,3,40,14],[43,3,43,14],[45,3,45,14],[70,5,70,7],[71,2,71,7],[72,5,72,7],[73,2,73,7],[74,5,74,7],[63,2,63,7],[64,5,64,7],[33,13,33,14],[66,2,66,7],[67,5,67,7],[105,2,105,4]]}
["（第二面）"]
["建築主等の概要"]
[]
[]
["【1.建築主】"]
[null,"【イ.氏名のフリガナ】"]
[null,"【ロ.氏名】",null,{"$f":"CONCATENATE(確認申請書第一面!O19,\" \",確認申請書第一面!O20)","v":" "}]
[null,"【ハ.郵便番号】"]
[null,"【ニ.住所】"]
[null,"【ホ.電話番号】"]
[]
[]
["【2.代理者】"]
[null,"【イ.資格】","（",null,"）","建築士",null,"(",null,null,null,")     登録第",null,null,null,"号"]
[null,"【ロ.氏名】"]
[null,"【ハ.建築士事務所名】","（",null,"）","建築士事務所",null,null,"（",null,"）","知事登録第",null,null,null,"号"]
[]
[null,"【ニ.郵便番号】"]
[null,"【ホ.所在地】"]
[null,"【ヘ.電話番号】"]
[]
["【3.設計者】"]
["（代表となる設計者）"]
[null,"【イ.資格】","（",null,"）","建築士",null,"(",null,null,null,")     登録第",null,null,null,"号"]
[null,"【ロ.氏名】"]
[null,"【ハ.建築士事務所名】","（",null,"）","建築士事務所",null,null,"（",null,"）","知事登録第",null,null,null,"号"]
[]
[null,"【ニ.郵便番号】"]
[null,"【ホ.所在地】"]
[null,"【ヘ.電話番号】"]
[null,"【ト.作成又は確認した設計図書】"]
[]
["（その他の設計者）"]
[null,"【イ.資格】","（",null,"）","建築士",null,"(",null,null,null,")     登録第",null,null,null,"号"]
[null,"【ロ.氏名】"]
[null,"【ハ.建築士事務所名】","（",null,"）","建築士事務所",null,null,"（",null,"）","知事登録第",null,null,null,"号"]
[]
[null,"【ニ.郵便番号】"]
[null,"【ホ.所在地】"]
[null,"【ヘ.電話番号】"]
[null,"【ト.作成又は確認した設計図書】"]
[]
[null,"【イ.資格】","（",null,"）","建築士",null,"(",null,null,null,")     登録第",null,null,null,"号"]
[null,"【ロ.氏名】"]
[null,"【ハ.建築士事務所名】","（",null,"）","建築士事務所",null,null,"（","　","）","知事登録第",null,null,null,"号"]
[]
[null,"【ニ.郵便番号】"]
[null,"【ホ.所在地】"]
[null,"【ヘ.電話番号】"]
[null,"【ト.作成又は確認した設計図書】"]
[]
[null,"【イ.資格】","（",null,"）","建築士",null,"(",null,null,null,")     登録第",null,null,null,"号"]
[null,"【ロ.氏名】"]
[null,"【ハ.建築士事務所名】","（",null,"）","建築士事務所",null,null,"（","　","）","知事登録第",null,null,null,"号"]
[]
[null,"【ニ.郵便番号】"]
[null,"【ホ.所在地】"]
[null,"【ヘ.電話番号】"]
[null,"【ト.作成又は確認した設計図書】"]
[]
["（構造設計一級建築士又は設備設計一級建築士である旨の表示をした者）"]
["上記の設計者のうち、"]
["□建築士法第20条の２第１項の表示をした者"]
[null,"【イ.氏名】"]
[null,"【ロ.資格】　　構造設計一級建築士交付第",null,null,null,null,null,null,"号"]
["□建築士法第20条の２第３項の表示をした者"]
[null,"【イ.氏名】"]
[null,"【ロ.資格】　　構造設計一級建築士交付第",null,null,null,null,null,null,"号"]
["□建築士法第20条の３第１項の表示をした者"]
[null,"【イ.氏名】"]
[null,"【ロ.資格】　　設備設計一級建築士交付第",null,null,null,null,null,null,"号"]
[null,"【イ.氏名】"]
[null,"【ロ.資格】　　設備設計一級建築士交付第",null,null,null,null,null,null,"号"]
[null,"【イ.氏名】"]
[null,"【ロ.資格】　　設備設計一級建築士交付第",null,null,null,null,null,null,"号"]
["□建築士法第20条の３第３項の表示をした者"]
[null,"【イ.氏名】"]
[null,"【ロ.資格】　　設備設計一級建築士交付第",null,null,null,null,null,null,"号"]
[null,"【イ.氏名】"]
[null,"【ロ.資格】　　設備設計一級建築士交付第",null,null,null,null,null,null,"号"]
[null,"【イ.氏名】"]
[null,"【ロ.資格】　　設備設計一級建築士交付第",null,null,null,null,null,null,"号"]
[]
[]
["【4.建築設備の設計に関し意見を聴いた者】"]
["（代表となる建築設備の設計に関し意見を聴いた者）"]
[null,"【イ.氏名】"]
[null,"【ロ.勤務先】"]
[null,"【ハ.郵便番号】"]
[null,"【ニ.所在地】"]
[null,"【ホ.電話番号】"]
[null,"【ヘ.登録番号】"]
[null,"【ト.意見を聴いた設計図書】"]
[]
["（その他の建築設備の設計に関し意見を聴いた者）"]
[null,"【イ.氏名】"]
[null,"【ロ.勤務先】"]
[null,"【ハ.郵便番号】"]
[null,"【ニ.所在地】"]
[null,"【ホ.電話番号】"]
[null,"【ヘ.登録番号】"]
[null,"【ト.意見を聴いた設計図書】"]
[]
[null,"【イ.氏名】"]
[null,"【ロ.勤務先】"]
[null,"【ハ.郵便番号】"]
[null,"【ニ.所在地】"]
[null,"【ホ.電話番号】"]
[null,"【ヘ.登録番号】"]
[null,"【ト.意見を聴いた設計図書】"]
[]
[null,"【イ.氏名】"]
[null,"【ロ.勤務先】"]
[null,"【ハ.郵便番号】"]
[null,"【ニ.所在地】"]
[null,"【ホ.電話番号】"]
[null,"【ヘ.登録番号】"]
[null,"【ト.意見を聴いた設計図書】"]
[]
[]
["【5.工事監理者】"]
["（代表となる工事監理者）"]
[null,"【イ.資格】","（",null,"）","建築士",null,"(",null,null,null,")     登録第",null,null,null,"号"]
[null,"【ロ.氏名】"]
[null,"【ハ.建築士事務所名】","（",null,"）","建築士事務所",null,null,"（",null,"）","知事登録第",null,null,null,"号"]
[]
[null,"【ニ.郵便番号】"]
[null,"【ホ.所在地】"]
[null,"【ヘ.電話番号】"]
[null,"【ト.工事と照合する設計図書】"]
[]
["（その他の工事監理者）"]
[null,"【イ.資格】","（",null,"）","建築士",null,"(",null,null,null,")     登録第",null,null,null,"号"]
[null,"【ロ.氏名】"]
[null,"【ハ.建築士事務所名】","（",null,"）","建築士事務所",null,null,"（",null,"）","知事登録第",null,null,null,"号"]
[]
[null,"【ニ.郵便番号】"]
[null,"【ホ.所在地】"]
[null,"【ヘ.電話番号】"]
[null,"【ト.工事と照合する設計図書】"]
[]
[null,"【イ.資格】","（",null,"）","建築士",null,"(",null,null,null,")     登録第",null,null,null,"号"]
[null,"【ロ.氏名】"]
[null,"【ハ.建築士事務所名】","（",null,"）","建築士事務所",null,null,"（",null,"）","知事登録第",null,null,null,"号"]
[]
[null,"【ニ.郵便番号】"]
[null,"【ホ.所在地】"]
[null,"【ヘ.電話番号】"]
[null,"【ト.工事と照合する設計図書】"]
[]
[null,"【イ.資格】","（",null,"）","建築士",null,"(",null,null,null,")     登録第",null,null,null,"号"]
[null,"【ロ.氏名】"]
[null,"【ハ.建築士事務所名】","（",null,"）","建築士事務所",null,null,"（",null,"）","知事登録第",null,null,null,"号"]
[]
[null,"【ニ.郵便番号】"]
[null,"【ホ.所在地】"]
[null,"【ヘ.電話番号】"]
[null,"【ト.工事と照合する設計図書】"]
[]
[]
["【6.工事施工者】"]
[null,"【イ.氏名】"]
[null,"【ロ.営業所名】","建設業の許可",null,null,null,"（",null,"）",null,"第",null,null,null,"号"]
[]
[null,"【ハ.郵便番号】"]
[null,"【ニ.所在地】"]
[null,"【ホ.電話番号】"]
[]
[]
[]
[]
["【7.構造計算適合性判定の申請】"]
[null,"□申請済（　　　　　　　　　）"]
[null,"□未申請（　　　　　　　　　）"]
[null,"■申請不要"]
[]
[]
["【8.建築物エネルギー消費性能確保計画の提出】"]
[null,"□提出済（　　　　　　　　　）"]
[null,"□未提出（　　　　　　　　　）"]
[null,"■提出不要（　　　　　　　　　）"]
[]
[]
["【9.備考】",null,null,"物件名："]

{"sheet":"確認申請書第二面別紙","index":4,"n_rows":10,"n_cols":4,"rows_kept":10,"cut":false,"hidden":false,"merged":[[8,3,8,14],[9,3,9,7],[0,0,0,15],[1,0,1,15],[5,3,5,14],[6,3,6,14],[7,3,7,5]]}
["（第二面）"]
["別紙　建築主追加様式"]
[]
[]
["【1.追加の建築主】"]
[null,"【イ.氏名のフリガナ】"]
[null,"【ロ.氏名】",null,{"$f":"確認申請書第一面!O21","v":0}]
[null,"【ハ.郵便番号】"]
[null,"【ニ.住所】",null,{"$f":"確認申請書第二面!D9","v":0}]
[null,"【ホ.電話番号】",null,{"$f":"確認申請書第二面!D10","v":0}]

{"sheet":"確認申請書第三面","index":5,"n_rows":119,"n_cols":34,"rows_kept":119,"cut":false,"hidden":false,"merged":[[101,11,101,12],[104,11,104,12],[101,14,101,15],[104,14,104,15],[51,10,51,14],[51,17,51,21],[51,24,51,28],[63,10,63,14],[63,17,63,21],[63,24,63,28],[73,10,73,14],[73,17,73,21],[73,24,73,28],[58,10,58,14],[29,26,29,30],[28,8,28,11],[23,13,23,16],[58,17,58,21],[65,17,65,21],[119,2,119,30],[88,17,88,21],[89,17,89,21],[90,10,90,16],[90,19,90,29],[87,10,87,14],[77,9,77,12],[78,10,78,12],[65,24,65,28],[66,10,66,14],[65,10,65,14],[69,10,69,14],[69,17,69,21],[69,24,69,28],[66,17,66,21],[66,24,66,28],[68,24,68,28],[88,10,88,14],[76,10,76,14],[120,2,120,30],[108,17,108,29],[108,14,108,15],[108,11,108,12],[108,8,108,9],[56,10,56,14],[41,13,41,31],[115,2,115,30],[114,2,114,30],[56,17,56,21],[56,24,56,28],[101,17,101,18],[74,24,74,28],[87,17,87,21],[104,17,104,18],[62,10,62,14],[62,17,62,21],[64,10,64,14],[68,17,68,21],[97,2,97,30],[98,2,98,30],[76,24,76,28],[58,24,58,28],[89,10,89,14],[0,0,0,32],[35,9,35,13],[41,8,41,11],[37,20,37,22],[34,9,34,13],[36,20,36,22],[38,5,38,31],[4,5,4,32],[7,5,7,32],[22,18,22,22],[27,8,27,11],[27,14,27,17],[27,20,27,23],[31,8,31,11],[31,14,31,17],[31,20,31,23],[31,26,31,29],[27,26,27,29],[22,13,22,16],[33,8,33,11],[33,14,33,17],[33,20,33,23],[33,26,33,29],[29,8,29,12],[18,25,18,31],[28,14,28,17],[28,20,28,23],[28,26,28,29],[18,18,18,24],[68,10,68,14],[76,17,76,21],[71,10,71,14],[71,17,71,21],[71,24,71,28],[60,10,60,14],[60,17,60,21],[60,24,60,28],[74,10,74,14],[62,24,62,28],[64,24,64,28],[49,10,49,14],[49,17,49,21],[49,24,49,28],[64,17,64,21],[74,17,74,21],[52,9,52,12],[29,14,29,18],[29,20,29,24]]}
["（第三面）"]
["建築物及びその敷地に関する事項"]
[]
[]
["【1.地名地番】"]
[]
[]
["【2.住居表示】"]
[]
[]
["【3.都市計画区域及び準都市計画区域の内外の別等】"]
[null,null,"□","都市計画区域内",null,null,null,null,"(","□","市街化区域",null,null,null,null,"□","市街化調整区域",null,null,null,null,null,"□","区域区分非設定）"]
[null,null,"□","準都市計画区域内",null,null,null,null,null,null,null,null,"□","都市計画区域及び準都市計画区域外"]
[]
[]
["【4.防火地域】",null,null,null,null,null,"□","防火地域",null,null,null,null,"□","準防火地域",null,null,null,null,"□","指定なし"]
[]
[]
["【5.その他の区域、地域、地区又は街区】",null,null,null,null,null,null,null,null,null,null,null,null,"□","法２２条区域",null,null,null,"　"]
[]
[]
["【6.道路】"]
[null,"【イ.幅員】",null,null,null,null,null,null,null,null,null,null,null,null,null,null,null,"m"]
[null,"【ロ.敷地と接している部分の長さ】",null,null,null,null,null,null,null,null,null,null,null,null,null,null,null,"m"]
[]
[]
["【7.敷地面積】"]
[null,"【イ.敷地面積】",null,null,null,null,"(1)","(",null,null,null,null,"㎡",")(",null,null,null,null,"㎡",")(",null,null,null,null,"㎡",")(",null,null,null,null,"㎡",")"]
[null,null,null,null,null,null,"(2)","(",null,null,null,null,"㎡",")(",null,null,null,null,"㎡",")(",null,null,null,null,"㎡",")(",null,null,null,null,"㎡",")"]
[null,"【ロ.用途地域等】",null,null,null,null,null,"(",null,null,null,null,null,")(",null,null,null,null,null,")(",null,null,null,null,null,")(",null,null,null,null,null,")"]
[null,"【ハ.建築基準法第52条第１項及び第２項の規定による建築物の容積率】"]
[null,null,null,null,null,null,null,"(",null,null,null,null,"％",")(",null,null,null,null,"％",")(",null,null,null,null,"％",")(",null,null,null,null,"％",")"]
[null,"【ニ.建築基準法第53条第１項の規定による建築物の建蔽率】"]
[null,null,null,null,null,null,null,"(",null,null,null,null,"％",")(",null,null,null,null,"％",")(",null,null,null,null,"％",")(",null,null,null,null,"％",")"]
[null,"【ホ.敷地面積の合計】",null,null,null,null,null,null,"(1)",{"$f":"I28+O28+U28+AA28","v":0},null,null,null,null,"㎡"]
[null,null,null,null,null,null,null,null,"(2)",null,null,null,null,null,"㎡"]
[null,"【ヘ.敷地に建築可能な延べ面積を敷地面積で除した数値】",null,null,null,null,null,null,null,null,null,null,null,null,null,null,null,null,null,null,{"$f":"IF((O32=0),\"\",ROUNDDOWN((I28*I32+O28*O32+U28*U32+AA28*AA32)/J35,2))","v":""},null,null,"％"]
[null,"【ト.敷地に建築可能な建築面積を敷地面積で除した数値】",null,null,null,null,null,null,null,null,null,null,null,null,null,null,null,null,null,null,{"$f":"IF(AND(O34=\"\",F39=\"\"),\"\",IF(F39=\"角地適用\",ROUNDDOWN((I28*I34+O28*O34+U28*U34+AA28*AA34)/J35+10,2),IF(F39=\"二方道路\",ROUNDDOWN((I28*I34+O28*O34+U28*U34+AA28*AA34)/J35+10,2),ROUNDDOWN((I28*I34+O28*O34+U28*U34+AA28*AA34)/J35,2))))","v":""},null,null,"％"]
[null,"【チ.備考】"]
[]
[]
["【8.主要用途】",null,null,null,null,"(","区分",null,null,null,null,null,")"]
[]
[]
["【9.工事種別】"]
[null,"□","新築",null,"□","増築",null,"□","改築",null,"□","移転",null,"□","用途変更",null,null,"□","大規模の修繕",null,null,null,null,"□","大規模の模様替"]
[]
[]
["【10.建築面積】",null,null,null,null,null,null,null,null,"(","申請部分",null,null,null,null,null,")(","申請以外の部分",null,null,null,null,null,")(","合計",null,null,null,null,null,")"]
[null,"【イ.建築物全体】",null,null,null,null,null,null,null,"(",null,null,null,null,null,"㎡",")(",null,null,null,null,null,"㎡",")(",{"$f":"K50+R50","v":0},null,null,null,null,"㎡",")"]
[null,"【ロ.建蔽率の算定の基礎となる建築面積】"]
[null,null,null,null,null,null,null,null,null,"(",null,null,null,null,null,"㎡",")(",null,null,null,null,null,"㎡",")(",{"$f":"K52+R52","v":0},null,null,null,null,"㎡",")"]
[null,"【ハ.建蔽率】",null,null,null,null,null,null,null,{"$f":"IF(ISERROR(ROUNDUP(Y52/J35*100,2)),\"\",ROUNDUP(Y52/J35*100,2))","v":""},null,null,null,"％"]
[]
[]
["【11.延べ面積】",null,null,null,null,null,null,null,null,"(","申請部分",null,null,null,null,null,")(","申請以外の部分",null,null,null,null,null,")(","合計",null,null,null,null,null,")"]
[null,"【イ.建築物全体】",null,null,null,null,null,null,null,"(",null,null,null,null,null,"㎡",")(",null,null,null,null,null,"㎡",")(",{"$f":"K57+R57","v":0},null,null,null,null,"㎡",")"]
[null,"【ロ.地階の住宅又は老人ホーム等の部分】"]
[null,null,null,null,null,null,null,null,null,"(",null,null,null,null,null,"㎡",")(",null,null,null,null,null,"㎡",")(",{"$f":"K59+R59","v":0},null,null,null,null,"㎡",")"]
[null,"【ハ.エレベーターの昇降路の部分】"]
[null,null,null,null,null,null,null,null,null,"(",null,null,null,null,null,"㎡",")(",null,null,null,null,null,"㎡",")(",{"$f":"K61+R61","v":0},null,null,null,null,"㎡",")"]
[null,"【ニ.共同住宅又は老人ホーム等の共用の廊下等の部分】"]
[null,null,null,null,null,null,null,null,null,"(",null,null,null,null,null,"㎡",")(",null,null,null,null,null,"㎡",")(",{"$f":"K63+R63","v":0},null,null,null,null,"㎡",")"]
[null,"【ホ.認定機械室等の部分】",null,null,null,null,null,null,null,"(",null,null,null,null,null,"㎡",")(",null,null,null,null,null,"㎡",")(",{"$f":"K64+R64","v":0},null,null,null,null,"㎡",")"]
[null,"【ヘ.自動車車庫等の部分】",null,null,null,null,null,null,null,"(",null,null,null,null,null,"㎡",")(",null,null,null,null,null,"㎡",")(",{"$f":"K65+R65","v":0},null,null,null,null,"㎡",")",null,null,{"$f":"TRUNC(Y57/5,2)","v":0}]
[null,"【 ト.備蓄倉庫の部分】",null,null,null,null,null,null,null,"(",null,null,null,null,null,"㎡",")(",null,null,null,null,null,"㎡",")(",{"$f":"K66+R66","v":0},null,null,null,null,"㎡",")"]
[null,"【チ.蓄電池の設置部分】",null,null,null,null,null,null,null,"(",null,null,null,null,null,"㎡",")(",null,null,null,null,null,"㎡",")(",{"$f":"K67+R67","v":0},null,null,null,null,"㎡",")"]
[null,"【 リ.自家発電設備の設置部分】"]
[null,null,null,null,null,null,null,null,null,"(",null,null,null,null,null,"㎡",")(",null,null,null,null,null,"㎡",")(",{"$f":"K69+R69","v":0},null,null,null,null,"㎡",")"]
[null,"【ヌ.貯水槽の設置部分】",null,null,null,null,null,null,null,"(",null,null,null,null,null,"㎡",")(",null,null,null,null,null,"㎡",")(",{"$f":"K70+R70","v":0},null,null,null,null,"㎡",")"]
[null,"【ル.宅配ボックスの設置部分】 "]
[null,null,null,null,null,null,null,null,null,"(",null,null,null,null,null,"㎡",")(",null,null,null,null,null,"㎡",")(",{"$f":"K72+R72","v":0},null,null,null,null,"㎡",")"]
[null,"【ヲ.その他の不算入部分】 "]
[null,null,null,null,null,null,null,null,null,"(",null,null,null,null,null,"㎡",")(",null,null,null,null,null,"㎡",")(",{"$f":"K74+R74","v":0},null,null,null,null,"㎡",")"]
[null,"【ワ.住宅の部分】 ",null,null,null,null,null,null,null,"(",null,null,null,null,null,"㎡",")(",null,null,null,null,null,"㎡",")(",{"$f":"K75+R75","v":0},null,null,null,null,"㎡",")"]
[null,"【カ.老人ホーム等の部分】"]
[null,null,null,null,null,null,null,null,null,"(",null,null,null,null,null,"㎡",")(",null,null,null,null,null,"㎡",")(",{"$f":"K77+R77","v":0},null,null,null,null,"㎡",")"]
[null,"【ヨ.延べ面積】",null,null,null,null,null,null,null,{"$f":"Y57-(IF(Y65>=Y57/5,Y57/5,Y65)+IF(Y72>=Y57/100,Y57/100,Y72))","v":0},null,null,null,"㎡"]
[null,"【タ.容積率】",null,null,null,null,null,null,null,null,{"$f":"IF(ISERROR(ROUNDUP(J78/J35*100,2)),\"\",ROUNDUP(J78/J35*100,2))","v":""},null,null,"％"]
[]
[]
["【12.建築物の数】"]
[null,"【イ.申請に係る建築物の数】",null,null,null,null,null,null,null,null,null,null,null,"　"]
[null,"【ロ.同一敷地内の他の建築物の数】",null,null,null,null,null,null,null,null,null,null,null,"　"]
[]
[]
["【13.建築物の高さ等】",null,null,null,null,null,null,null,null,"(","申請に係る建築物",null,null,null,null,null,")(","他の建築物",null,null,null,null,null,")"]
[null,"【イ.最高の高さ】",null,null,null,null,null,null,null,"(",null,null,null,null,null,"m",")(",null,null,null,null,null,"m",")"]
[null,"【ロ.階数】",null,null,null,null,null,null,"地上","(",null,null,null,null,null,"階",")(",null,null,null,null,null,"階",")"]
[null,null,null,null,null,null,null,null,"地下","(",null,null,null,null,null,"階",")(",null,null,null,null,null,"階",")"]
[null,"【ハ.構造】",null,null,null,null,null,null,null,null,null,null,null,null,null,null,null,null,"一部",null,null,null,null,null,null,null,null,null,null,null,"造"]
[null,"【ニ.建築基準法第56条第７項の規定による特例の適用の有無】",null,null,null,null,null,null,null,null,null,null,null,null,null,null,null,null,null,null,null,"□","有",null,"□","無"]
[null,"【ホ.適用があるときは、特例の区分】"]
[null,null,"□","道路高さ制限不適用",null,null,null,null,null,null,null,"□","隣地高さ制限不適用",null,null,null,null,null,null,null,"□","北側高さ制限不適用"]
[]
[]
["【14.許可・認定等】"]
[]
[]
[]
[]
["【15.工事着手予定年月日】",null,null,null,null,null,null,null,null,"令和",null,null,null,"年",null,null,"月",null,null,"日"]
[]
[]
["【16.工事完了予定年月日】",null,null,null,null,null,null,null,null,"令和",null,null,null,"年",null,null,"月",null,null,"日"]
[]
[]
["【17.特定工程工事終了予定年月日】",null,null,null,null,null,null,null,null,null,null,null,null,null,null,null,null,null,null,null,null,null,"（特定工程）"]
[null,null,"(第",null,"回)",null,"令和",null,null,null,"年",null,null,"月",null,null,"日(",{"$f":"IF(D109=1,\"軸組の工事及び当該軸組の部材を緊結する工事\",\"\")","v":""},null,null,null,null,null,null,null,null,null,null,null,null,")"]
[null,null,"(第",null,"回)",null,"令和",null,null,null,"年",null,null,"月",null,null,"日(",null,null,null,null,null,null,null,null,null,null,null,null,null,")"]
[null,null,"(第",null,"回)",null,"令和",null,null,null,"年",null,null,"月",null,null,"日(",null,null,null,null,null,null,null,null,null,null,null,null,null,")"]
[]
[]
["【18.その他必要な事項】"]
[]
[]
[]
[]
["【19.備考】"]

{"sheet":"確認申請書第四面","index":6,"n_rows":105,"n_cols":31,"rows_kept":105,"cut":false,"hidden":false,"merged":[[105,7,105,32],[81,24,81,28],[82,24,82,28],[83,24,83,28],[98,7,98,14],[81,17,81,21],[82,10,82,14],[82,17,82,21],[81,6,81,7],[101,7,101,32],[104,7,104,32],[83,10,83,14],[83,17,83,21],[86,7,86,32],[89,7,89,32],[92,7,92,32],[0,0,0,32],[18,5,18,11],[18,14,18,20],[80,10,80,14],[80,17,80,21],[80,24,80,28],[69,18,69,20],[61,7,61,32],[78,17,78,21],[78,24,78,28],[79,10,79,14],[79,17,79,21],[79,24,79,28],[7,5,7,8],[80,6,80,7],[8,5,8,8],[78,6,78,7],[9,5,9,8],[7,10,7,32],[8,10,8,32],[9,10,9,32],[70,18,70,20],[25,10,25,11],[79,6,79,7],[74,17,74,29],[95,7,95,10],[10,5,10,8],[11,5,11,8],[10,10,10,32],[11,10,11,32],[82,6,82,7],[50,11,50,12],[51,11,51,12],[52,11,52,12],[53,11,53,12],[57,9,57,12],[58,9,58,12],[81,10,81,14],[78,10,78,14]]}
["（第四面）"]
["建築物別概要"]
[]
[]
["【1.番号】"]
[]
[]
["【2.用途】",null,null,"(区分",null,null,null,null,null,")"]
[null,null,null,"(区分",null,null,null,null,null,")"]
[null,null,null,"(区分",null,null,null,null,null,")"]
[null,null,null,"(区分",null,"　",null,null,null,")"]
[null,null,null,"(区分",null,null,null,null,null,")"]
[]
[]
["【3.工事種別】"]
[null,"□","新築",null,"□","増築",null,"□","改築",null,"□","移転",null,"□","用途変更",null,null,"□","大規模の修繕",null,null,null,null,"□","大規模の模様替"]
[]
[]
["【4.構造】",null,null,null,null,null,null,null,null,null,null,null,null,"一部",null,null,null,null,null,null,null,"造"]
[]
[]
["【5.主要構造部】"]
[null,"□","耐火構造（防火上及び避難上支障がない主要構造部を有する場合）"]
[null,"□","耐火構造（防火上及び避難上支障がない主要構造部を有しない場合）"]
[null,"□","建築基準法施行令第108条の４第１項第１号イ及びロに掲げる基準に適合する構造"]
[null,"□","準耐火構造"]
[null,"□","準耐火構造と同等の準耐火性能を有する構造（ロ－１）"]
[null,"□","準耐火構造と同等の準耐火性能を有する構造（ロ－２）"]
[null,"□","その他"]
[]
[]
["【6.建築基準法第21条及び第27条の規定の適用】"]
[null,"□","建築基準法施行令第109条の５第１号に掲げる基準に適合する構造"]
[null,"□","建築基準法第21条第１項ただし書に該当する建築物"]
[null,"□","建築基準法施行令第109条の７第１項第１号に掲げる基準に適合する構造"]
[null,"□","建築基準法施行令第110条第１号に掲げる基準に適合する構造"]
[null,"□","その他"]
[null,"□","建築基準法第21条又は第27条の規定の適用を受けない"]
[]
[]
["【7.建築基準法第61条の規定の適用】"]
[null,"□","耐火建築物"]
[null,"□","延焼防止建築物"]
[null,"□","準耐火建築物"]
[null,"□","準延焼防止建築物"]
[null,"□","その他"]
[null,"□","建築基準法第61条の規定の適用を受けない"]
[]
[]
["【8.階数】"]
[null,"【イ.地階を除く階数】"]
[null,"【ロ.地階の階数】"]
[null,"【ハ.昇降機塔等の階の数】"]
[null,"【ニ.地階の倉庫等の階の数】"]
[]
[]
["【9.高さ】"]
[null,"【イ.最高の高さ】",null,null,null,null,null,null,null,null,null,null,null,"m"]
[null,"【ロ.最高の軒の高さ】",null,null,null,null,null,null,null,null,null,null,null,"m"]
[]
[]
["【10.建築設備の種類】"]
[]
[]
["【11.確認の特例】"]
[null,"【イ.建築基準法第６条の３第１項ただし書又は法第18条第４項ただし書の規定による審査の特例の"]
[null,"　　適用の有無】",null,null,null,null,"□","有",null,"■","無"]
[null,"【ロ.建築基準法第６条の４第１項の規定による確認の特例の適用の有無】",null,null,null,null,null,null,null,null,null,null,null,null,null,null,null,null,null,null,null,null,null,null,null,"□","有",null,"□","無"]
[null,"【ハ.建築基準法施行令第10条各号に掲げる建築物の区分】"]
[null,null,null,null,null,null,null,null,null,null,null,null,null,null,null,null,null,"第",null,null,null,"号"]
[null,"【ニ.認定型式の認定番号】",null,null,null,null,null,null,null,null,null,null,null,null,null,null,null,"第",null,null,null,"号"]
[null,"【ホ.適合する一連の規定の区分】"]
[null,null,"□","建築基準法施行令第136条の２の11第１号イ"]
[null,null,"□","建築基準法施行令第136条の２の11第１号ロ"]
[null,"【ヘ.認証型式部材等認証番号】"]
[]
[]
["【12.床面積】",null,null,null,null,null,null,null,null,"(","申請部分",null,null,null,null,null,")(","申請以外の部分",null,null,null,null,null,")(","合計",null,null,null,null,null,")"]
[null,"【イ.階別】",null,null,null,"(",null,null,"階)","(",null,null,null,null,null,"㎡",")(",null,null,null,null,null,"㎡",")(",{"$f":"K79+R79","v":0},null,null,null,null,"㎡",")"]
[null,null,null,null,null,"(",null,null,"階)","(",null,null,null,null,null,"㎡",")(",null,null,null,null,null,"㎡",")(",{"$f":"K80+R80","v":0},null,null,null,null,"㎡",")"]
[null,null,null,null,null,"(",null,null,"階)","(",null,null,null,null,null,"㎡",")(",null,null,null,null,null,"㎡",")(",0,null,null,null,null,"㎡",")"]
[null,null,null,null,null,"(",null,null,"階)","(",null,null,null,null,null,"㎡",")(",null,null,null,null,null,"㎡",")(",0,null,null,null,null,"㎡",")"]
[null,null,null,null,null,"(",null,null,"階)","(",null,null,null,null,null,"㎡",")(",null,null,null,null,null,"㎡",")(",0,null,null,null,null,"㎡",")"]
[null,"【ロ.合計】",null,null,null,null,null,null,null,"(",{"$f":"SUM(K79:O83)","v":0},null,null,null,null,"㎡",")(",{"$f":"SUM(R79:V83)","v":0},null,null,null,null,"㎡",")(",{"$f":"SUM(Y79:AC83)","v":0},null,null,null,null,"㎡",")"]
[]
[]
["【13.屋根】"]
[]
[]
["【14.外壁】"]
[]
[]
["【15.軒裏】"]
[]
[]
["【16.居室の床の高さ】",null,null,null,null,null,null,null,null,null,null,"ｍ"]
[]
[]
["【17.便所の種類】"]
[]
[]
["【18.その他必要な事項】"]
[]
[]
["【19.備考】"]

{"sheet":"確認申請書第四面 (2)","index":7,"n_rows":105,"n_cols":31,"rows_kept":105,"cut":false,"hidden":false,"merged":[[95,7,95,10],[98,7,98,14],[101,7,101,32],[104,7,104,32],[105,7,105,32],[92,7,92,32],[81,6,81,7],[81,10,81,14],[81,17,81,21],[81,24,81,28],[82,6,82,7],[82,10,82,14],[82,17,82,21],[82,24,82,28],[83,10,83,14],[83,17,83,21],[83,24,83,28],[86,7,86,32],[89,7,89,32],[79,6,79,7],[79,10,79,14],[79,17,79,21],[79,24,79,28],[80,6,80,7],[80,10,80,14],[80,17,80,21],[80,24,80,28],[78,6,78,7],[78,10,78,14],[78,17,78,21],[78,24,78,28],[50,11,50,12],[51,11,51,12],[52,11,52,12],[53,11,53,12],[57,9,57,12],[58,9,58,12],[61,7,61,32],[69,18,69,20],[70,18,70,20],[74,17,74,29],[25,10,25,11],[9,5,9,8],[9,10,9,32],[0,0,0,32],[7,5,7,8],[7,10,7,32],[8,5,8,8],[8,10,8,32],[10,5,10,8],[10,10,10,32],[11,5,11,8],[11,10,11,32],[18,5,18,11],[18,14,18,20]]}
["（第四面）"]
["建築物別概要"]
[]
[]
["【1.番号】"]
[]
[]
["【2.用途】",null,null,"(区分",null,null,null,null,null,")"]
[null,null,null,"(区分",null,null,null,null,null,")"]
[null,null,null,"(区分",null,null,null,null,null,")"]
[null,null,null,"(区分",null,"　",null,null,null,")"]
[null,null,null,"(区分",null,null,null,null,null,")"]
[]
[]
["【3.工事種別】"]
[null,"□","新築",null,"□","増築",null,"□","改築",null,"□","移転",null,"□","用途変更",null,null,"□","大規模の修繕",null,null,null,null,"□","大規模の模様替"]
[]
[]
["【4.構造】",null,null,null,null,null,null,null,null,null,null,null,null,"一部",null,null,null,null,null,null,null,"造"]
[]
[]
["【5.主要構造部】"]
[null,"□","耐火構造（防火上及び避難上支障がない主要構造部を有する場合）"]
[null,"□","耐火構造（防火上及び避難上支障がない主要構造部を有しない場合）"]
[null,"□","建築基準法施行令第108条の３第１項第１号イ及びロに掲げる基準に適合する構造"]
[null,"□","準耐火構造"]
[null,"□","準耐火構造と同等の準耐火性能を有する構造（ロ－１）"]
[null,"□","準耐火構造と同等の準耐火性能を有する構造（ロ－２）"]
[null,"□","その他"]
[]
[]
["【6.建築基準法第21条及び第27条の規定の適用】"]
[null,"□","建築基準法施行令第109条の５第１号に掲げる基準に適合する構造"]
[null,"□","建築基準法第21条第１項ただし書に該当する建築物"]
[null,"□","建築基準法施行令第109条の７第１項第１号に掲げる基準に適合する構造"]
[null,"□","建築基準法施行令第110条第１号に掲げる基準に適合する構造"]
[null,"□","その他"]
[null,"□","建築基準法第21条又は第27条の規定の適用を受けない"]
[]
[]
["【7.建築基準法第61条の規定の適用】"]
[null,"□","耐火建築物"]
[null,"□","延焼防止建築物"]
[null,"□","準耐火建築物"]
[null,"□","準延焼防止建築物"]
[null,"□","その他"]
[null,"□","建築基準法第61条の規定の適用を受けない"]
[]
[]
["【8.階数】"]
[null,"【イ.地階を除く階数】"]
[null,"【ロ.地階の階数】"]
[null,"【ハ.昇降機塔等の階の数】"]
[null,"【ニ.地階の倉庫等の階の数】"]
[]
[]
["【9.高さ】"]
[null,"【イ.最高の高さ】",null,null,null,null,null,null,null,null,null,null,null,"m"]
[null,"【ロ.最高の軒の高さ】",null,null,null,null,null,null,null,null,null,null,null,"m"]
[]
[]
["【10.建築設備の種類】"]
[]
[]
["【11.確認の特例】"]
[null,"【イ.建築基準法第６条の３第１項ただし書又は法第18条第４項ただし書の規定による審査の特例の"]
[null,"　　適用の有無】",null,null,null,null,"□","有",null,"■","無"]
[null,"【ロ.建築基準法第６条の４第１項の規定による確認の特例の適用の有無】",null,null,null,null,null,null,null,null,null,null,null,null,null,null,null,null,null,null,null,null,null,null,null,"□","有",null,"□","無"]
[null,"【ハ.建築基準法施行令第10条各号に掲げる建築物の区分】"]
[null,null,null,null,null,null,null,null,null,null,null,null,null,null,null,null,null,"第",null,null,null,"号"]
[null,"【ニ.認定型式の認定番号】",null,null,null,null,null,null,null,null,null,null,null,null,null,null,null,"第",null,null,null,"号"]
[null,"【ホ.適合する一連の規定の区分】"]
[null,null,"□","建築基準法施行令第136条の２の11第１号イ"]
[null,null,"□","建築基準法施行令第136条の２の11第１号ロ"]
[null,"【ヘ.認証型式部材等認証番号】"]
[]
[]
["【12.床面積】",null,null,null,null,null,null,null,null,"(","申請部分",null,null,null,null,null,")(","申請以外の部分",null,null,null,null,null,")(","合計",null,null,null,null,null,")"]
[null,"【イ.階別】",null,null,null,"(",null,null,"階)","(",null,null,null,null,null,"㎡",")(",null,null,null,null,null,"㎡",")(",{"$f":"K79+R79","v":0},null,null,null,null,"㎡",")"]
[null,null,null,null,null,"(",null,null,"階)","(",null,null,null,null,null,"㎡",")(",null,null,null,null,null,"㎡",")(",{"$f":"K80+R80","v":0},null,null,null,null,"㎡",")"]
[null,null,null,null,null,"(",null,null,"階)","(",null,null,null,null,null,"㎡",")(",null,null,null,null,null,"㎡",")(",0,null,null,null,null,"㎡",")"]
[null,null,null,null,null,"(",null,null,"階)","(",null,null,null,null,null,"㎡",")(",null,null,null,null,null,"㎡",")(",0,null,null,null,null,"㎡",")"]
[null,null,null,null,null,"(",null,null,"階)","(",null,null,null,null,null,"㎡",")(",null,null,null,null,null,"㎡",")(",0,null,null,null,null,"㎡",")"]
[null,"【ロ.合計】",null,null,null,null,null,null,null,"(",{"$f":"SUM(K79:O83)","v":0},null,null,null,null,"㎡",")(",{"$f":"SUM(R79:V83)","v":0},null,null,null,null,"㎡",")(",{"$f":"SUM(Y79:AC83)","v":0},null,null,null,null,"㎡",")"]
[]
[]
["【13.屋根】"]
[]
[]
["【14.外壁】"]
[]
[]
["【15.軒裏】"]
[]
[]
["【16.居室の床の高さ】",null,null,null,null,null,null,null,null,null,null,"ｍ"]
[]
[]
["【17.便所の種類】"]
[]
[]
["【18.その他必要な事項】"]
[]
[]
["【19.備考】"]

{"sheet":"確認申請書第五面","index":8,"n_rows":82,"n_cols":31,"rows_kept":82,"cut":false,"hidden":false,"merged":[[28,5,28,10],[29,5,29,10],[30,5,30,10],[31,5,31,10],[26,12,26,20],[27,12,27,20],[0,0,0,32],[53,10,53,12],[56,10,56,12],[59,10,59,12],[39,7,39,32],[10,10,10,12],[13,10,13,12],[16,10,16,12],[26,5,26,10],[28,12,28,20],[29,12,29,20],[34,7,34,32],[38,7,38,32],[35,7,35,32],[43,0,43,32],[30,12,30,20],[81,7,81,32],[82,7,82,32],[74,5,74,10],[74,12,74,20],[69,22,69,28],[70,22,70,28],[71,22,71,28],[72,22,72,28],[73,22,73,28],[69,12,69,20],[70,12,70,20],[71,12,71,20],[72,12,72,20],[73,12,73,20],[69,5,69,10],[70,5,70,10],[20,10,20,12],[63,10,63,12],[74,22,74,28],[77,7,77,32],[78,7,78,32],[71,5,71,10],[72,5,72,10],[73,5,73,10],[31,12,31,20],[26,22,26,28],[27,22,27,28],[28,22,28,28],[29,22,29,28],[30,22,30,28],[31,22,31,28],[27,5,27,10]]}
["（第五面）"]
["建築物の階別概要"]
[]
[]
["【1.番号】"]
[]
[]
["【2.階】",null,null,null,null,null,null,null,null,null,null,null,null,"階"]
[]
[]
["【3.柱の小径】",null,null,null,null,null,null,null,null,null,null,null,null,"㎜"]
[]
[]
["【4.横架材間の垂直距離】",null,null,null,null,null,null,null,null,null,null,null,null,"㎜"]
[]
[]
["【5.階の高さ】",null,null,null,null,null,null,null,null,null,null,null,null,"㎜"]
[]
[]
["【6.天井】"]
[null,"【イ.居室の天井の高さ】",null,null,null,null,null,null,null,null,null,null,null,"㎜"]
[null,"【ロ.建築基準法施行令第39条第3項に規定する特定天井】",null,null,null,null,null,null,null,null,null,null,null,null,null,null,null,null,null,"□","有",null,"□","無"]
[]
[]
["【7.用途別床面積】"]
[null,null,null,null,"(","用途の区分",null,null,null,null,null,")(","具体的な用途の名称",null,null,null,null,null,null,null,null,")(","床面積",null,null,null,null,null,null,null,")"]
[null,"【イ.】",null,null,"(",null,null,null,null,null,null,")(",null,null,null,null,null,null,null,null,null,")(",null,null,null,null,null,null,null,"㎡",")"]
[null,"【ロ.】",null,null,"(",null,null,null,null,null,null,")(",null,null,null,null,null,null,null,null,null,")(",null,null,null,null,null,null,null,"㎡",")"]
[null,"【ハ.】",null,null,"(",null,null,null,null,null,null,")(",null,null,null,null,null,null,null,null,null,")(",null,null,null,null,null,null,null,"㎡",")"]
[null,"【ニ.】",null,null,"(",null,null,null,null,null,null,")(",null,null,null,null,null,null,null,null,null,")(",null,null,null,null,null,null,null,"㎡",")"]
[null,"【ホ.】",null,null,"(",null,null,null,null,null,null,")(",null,null,null,null,null,null,null,null,null,")(",null,null,null,null,null,null,null,"㎡",")"]
[null,"【ヘ.】",null,null,"(",null,null,null,null,null,null,")(",null,null,null,null,null,null,null,null,null,")(",null,null,null,null,null,null,null,"㎡",")"]
[]
[]
["【8.その他必要な事項】"]
[]
[]
[]
["【9.備考】"]
[]
[]
[]
[]
["（第五面）"]
["建築物の階別概要"]
[]
[]
["【1.番号】"]
[]
[]
["【2.階】",null,null,null,null,null,null,null,null,null,null,null,null,"階"]
[]
[]
["【3.柱の小径】",null,null,null,null,null,null,null,null,null,null,null,null,"㎜"]
[]
[]
["【4.横架材間の垂直距離】",null,null,null,null,null,null,null,null,null,null,null,null,"㎜"]
[]
[]
["【5.階の高さ】",null,null,null,null,null,null,null,null,null,null,null,null,"㎜"]
[]
[]
["【6.天井】"]
[null,"【イ.居室の天井の高さ】",null,null,null,null,null,null,null,null,null,null,null,"㎜"]
[null,"【ロ.建築基準法施行令第39条第3項に規定する特定天井】",null,null,null,null,null,null,null,null,null,null,null,null,null,null,null,null,null,"□","有",null,"□","無"]
[]
[]
["【7.用途別床面積】"]
[null,null,null,null,"(","用途の区分",null,null,null,null,null,")(","具体的な用途の名称",null,null,null,null,null,null,null,null,")(","床面積",null,null,null,null,null,null,null,")"]
[null,"【イ.】",null,null,"(",null,null,null,null,null,null,")(",null,null,null,null,null,null,null,null,null,")(",null,null,null,null,null,null,null,"㎡",")"]
[null,"【ロ.】",null,null,"(",null,null,null,null,null,null,")(",null,null,null,null,null,null,null,null,null,")(",null,null,null,null,null,null,null,"㎡",")"]
[null,"【ハ.】",null,null,"(",null,null,null,null,null,null,")(",null,null,null,null,null,null,null,null,null,")(",null,null,null,null,null,null,null,"㎡",")"]
[null,"【ニ.】",null,null,"(",null,null,null,null,null,null,")(",null,null,null,null,null,null,null,null,null,")(",null,null,null,null,null,null,null,"㎡",")"]
[null,"【ホ.】",null,null,"(",null,null,null,null,null,null,")(",null,null,null,null,null,null,null,null,null,")(",null,null,null,null,null,null,null,"㎡",")"]
[null,"【ヘ.】",null,null,"(",null,null,null,null,null,null,")(",null,null,null,null,null,null,null,null,null,")(",null,null,null,null,null,null,null,"㎡",")"]
[]
[]
["【8.その他必要な事項】"]
[]
[]
[]
["【9.備考】"]

{"sheet":"確認申請書第五面 (2)","index":9,"n_rows":82,"n_cols":31,"rows_kept":82,"cut":false,"hidden":false,"merged":[[26,5,26,10],[26,12,26,20],[26,22,26,28],[0,0,0,32],[10,10,10,12],[13,10,13,12],[16,10,16,12],[20,10,20,12],[27,5,27,10],[27,12,27,20],[27,22,27,28],[28,5,28,10],[28,12,28,20],[28,22,28,28],[29,5,29,10],[29,12,29,20],[29,22,29,28],[30,5,30,10],[30,12,30,20],[30,22,30,28],[63,10,63,12],[31,5,31,10],[31,12,31,20],[31,22,31,28],[34,7,34,32],[35,7,35,32],[38,7,38,32],[39,7,39,32],[43,0,43,32],[53,10,53,12],[56,10,56,12],[59,10,59,12],[69,5,69,10],[69,12,69,20],[69,22,69,28],[70,5,70,10],[70,12,70,20],[70,22,70,28],[71,5,71,10],[71,12,71,20],[71,22,71,28],[72,5,72,10],[72,12,72,20],[72,22,72,28],[77,7,77,32],[78,7,78,32],[81,7,81,32],[82,7,82,32],[73,5,73,10],[73,12,73,20],[73,22,73,28],[74,5,74,10],[74,12,74,20],[74,22,74,28]]}
["（第五面）"]
["建築物の階別概要"]
[]
[]
["【1.番号】",null,null,null,null,null,null,null,null,null,null,null,"　"]
[]
[]
["【2.階】",null,null,null,null,null,null,null,null,null,null,null,null,"階"]
[]
[]
["【3.柱の小径】",null,null,null,null,null,null,null,null,null,null,null,null,"㎜"]
[]
[]
["【4.横架材間の垂直距離】",null,null,null,null,null,null,null,null,null,null,null,null,"㎜"]
[]
[]
["【5.階の高さ】",null,null,null,null,null,null,null,null,null,null,null,null,"㎜"]
[]
[]
["【6.天井】"]
[null,"【イ.居室の天井の高さ】",null,null,null,null,null,null,null,null,null,null,null,"㎜"]
[null,"【ロ.建築基準法施行令第39条第3項に規定する特定天井】",null,null,null,null,null,null,null,null,null,null,null,null,null,null,null,null,null,"□","有",null,"□","無"]
[]
[]
["【7.用途別床面積】"]
[null,null,null,null,"(","用途の区分",null,null,null,null,null,")(","具体的な用途の名称",null,null,null,null,null,null,null,null,")(","床面積",null,null,null,null,null,null,null,")"]
[null,"【イ.】",null,null,"(",null,null,null,null,null,null,")(",null,null,null,null,null,null,null,null,null,")(",null,null,null,null,null,null,null,"㎡",")"]
[null,"【ロ.】",null,null,"(",null,null,null,null,null,null,")(",null,null,null,null,null,null,null,null,null,")(",null,null,null,null,null,null,null,"㎡",")"]
[null,"【ハ.】",null,null,"(",null,null,null,null,null,null,")(",null,null,null,null,null,null,null,null,null,")(",null,null,null,null,null,null,null,"㎡",")"]
[null,"【ニ.】",null,null,"(",null,null,null,null,null,null,")(",null,null,null,null,null,null,null,null,null,")(",null,null,null,null,null,null,null,"㎡",")"]
[null,"【ホ.】",null,null,"(",null,null,null,null,null,null,")(",null,null,null,null,null,null,null,null,null,")(",null,null,null,null,null,null,null,"㎡",")"]
[null,"【ヘ.】",null,null,"(",null,null,null,null,null,null,")(",null,null,null,null,null,null,null,null,null,")(",null,null,null,null,null,null,null,"㎡",")"]
[]
[]
["【8.その他必要な事項】"]
[]
[]
[]
["【9.備考】"]
[]
[]
[]
[]
["（第五面）"]
["建築物の階別概要"]
[]
[]
["【1.番号】"]
[]
[]
["【2.階】",null,null,null,null,null,null,null,null,null,null,null,null,"階"]
[]
[]
["【3.柱の小径】",null,null,null,null,null,null,null,null,null,null,null,null,"㎜"]
[]
[]
["【4.横架材間の垂直距離】",null,null,null,null,null,null,null,null,null,null,null,null,"㎜"]
[]
[]
["【5.階の高さ】",null,null,null,null,null,null,null,null,null,null,null,null,"㎜"]
[]
[]
["【6.天井】"]
[null,"【イ.居室の天井の高さ】",null,null,null,null,null,null,null,null,null,null,null,"㎜"]
[null,"【ロ.建築基準法施行令第39条第3項に規定する特定天井】",null,null,null,null,null,null,null,null,null,null,null,null,null,null,null,null,null,"□","有",null,"□","無"]
[]
[]
["【7.用途別床面積】"]
[null,null,null,null,"(","用途の区分",null,null,null,null,null,")(","具体的な用途の名称",null,null,null,null,null,null,null,null,")(","床面積",null,null,null,null,null,null,null,")"]
[null,"【イ.】",null,null,"(",null,null,null,null,null,null,")(",null,null,null,null,null,null,null,null,null,")(",null,null,null,null,null,null,null,"㎡",")"]
[null,"【ロ.】",null,null,"(",null,null,null,null,null,null,")(",null,null,null,null,null,null,null,null,null,")(",null,null,null,null,null,null,null,"㎡",")"]
[null,"【ハ.】",null,null,"(",null,null,null,null,null,null,")(",null,null,null,null,null,null,null,null,null,")(",null,null,null,null,null,null,null,"㎡",")"]
[null,"【ニ.】",null,null,"(",null,null,null,null,null,null,")(",null,null,null,null,null,null,null,null,null,")(",null,null,null,null,null,null,null,"㎡",")"]
[null,"【ホ.】",null,null,"(",null,null,null,null,null,null,")(",null,null,null,null,null,null,null,null,null,")(",null,null,null,null,null,null,null,"㎡",")"]
[null,"【ヘ.】",null,null,"(",null,null,null,null,null,null,")(",null,null,null,null,null,null,null,null,null,")(",null,null,null,null,null,null,null,"㎡",")"]
[]
[]
["【8.その他必要な事項】"]
[]
[]
[]
["【9.備考】"]

{"sheet":"確認申請書第六面","index":10,"n_rows":43,"n_cols":31,"rows_kept":43,"cut":false,"hidden":false,"merged":[[13,21,13,25],[42,7,42,32],[43,7,43,32],[0,0,0,32],[14,10,14,16],[14,19,14,29],[34,6,34,12],[39,2,39,5],[7,6,7,12],[11,9,11,12],[12,9,12,12],[13,10,13,14],[4,11,4,12]]}
["（第六面）"]
["建築物独立部分別概要"]
[]
[]
["【1.番号】"]
[]
[]
["【2.延べ面積】",null,null,null,null,null,null,null,null,null,null,null,null,"㎡"]
[]
[]
["【3.建築物の高さ等】"]
[null,"【イ.最高の高さ】",null,null,null,null,null,null,null,null,null,null,null,"m"]
[null,"【ロ.最高の軒の高さ】",null,null,null,null,null,null,null,null,null,null,null,"m"]
[null,"【ハ.階数】",null,null,null,null,null,null,"地上","(",null,null,null,null,null,"階",")",null,null,"地下","(",null,null,null,null,null,"階",")"]
[null,"【ニ.構造】",null,null,null,null,null,null,null,null,null,null,null,null,null,null,null,null,"一部",null,null,null,null,null,null,null,null,null,null,null,"造"]
[]
[]
["【4.特定構造計算基準又は特定増改築構造計算基準の別】"]
[null,"□","特定構造計算基準"]
[null,"□","特定増改築構造計算基準"]
[]
[]
["【5.構造計算の区分】"]
[null,"□","建築基準法施行令第81条第１項各号に掲げる基準に従つた構造計算"]
[null,"□","建築基準法施行令第81条第２項第１号イに掲げる構造計算"]
[null,"□","建築基準法施行令第81条第２項第１号ロに掲げる構造計算"]
[null,"□","建築基準法施行令第81条第２項第２号イに掲げる構造計算"]
[null,"□","建築基準法施行令第81条第３項に掲げる構造計算"]
[]
[]
["【6.構造計算に用いたプログラム】"]
[null,"【イ.名称】"]
[null,"【ロ.区分】"]
[null,"□","建築基準法第20条第１項第２号イ又は第３号イの認定を受けたプログラム"]
[null,"(","大臣認定番号",null,null,null,null,null,null,null,null,null,null,")"]
[null,"□","その他のプログラム"]
[]
[]
["【7.建築基準法施行令第137条の２各号に定める基準の区分】"]
[null,"(",null,null,null,null,")"]
[]
[]
["【8.備考】"]

{"sheet":"確認申請書第六面 (２)","index":11,"n_rows":43,"n_cols":31,"rows_kept":43,"cut":false,"hidden":false,"merged":[[0,0,0,32],[14,10,14,16],[14,19,14,29],[34,6,34,12],[39,2,39,5],[4,11,4,12],[42,7,42,32],[43,7,43,32],[7,6,7,12],[11,9,11,12],[12,9,12,12],[13,10,13,14],[13,21,13,25]]}
["（第六面）"]
["建築物独立部分別概要"]
[]
[]
["【1.番号】"]
[]
[]
["【2.延べ面積】",null,null,null,null,null,null,null,null,null,null,null,null,"㎡"]
[]
[]
["【3.建築物の高さ等】"]
[null,"【イ.最高の高さ】",null,null,null,null,null,null,null,null,null,null,null,"m"]
[null,"【ロ.最高の軒の高さ】",null,null,null,null,null,null,null,null,null,null,null,"m"]
[null,"【ハ.階数】",null,null,null,null,null,null,"地上","(",null,null,null,null,null,"階",")",null,null,"地下","(",null,null,null,null,null,"階",")"]
[null,"【ニ.構造】",null,null,null,null,null,null,null,null,null,null,null,null,null,null,null,null,"一部",null,null,null,null,null,null,null,null,null,null,null,"造"]
[]
[]
["【4.特定構造計算基準又は特定増改築構造計算基準の別】"]
[null,"□","特定構造計算基準"]
[null,"□","特定増改築構造計算基準"]
[]
[]
["【5.構造計算の区分】"]
[null,"□","建築基準法施行令第81条第１項各号に掲げる基準に従つた構造計算"]
[null,"□","建築基準法施行令第81条第２項第１号イに掲げる構造計算"]
[null,"□","建築基準法施行令第81条第２項第１号ロに掲げる構造計算"]
[null,"□","建築基準法施行令第81条第２項第２号イに掲げる構造計算"]
[null,"□","建築基準法施行令第81条第３項に掲げる構造計算"]
[]
[]
["【6.構造計算に用いたプログラム】"]
[null,"【イ.名称】"]
[null,"【ロ.区分】"]
[null,"□","建築基準法第20条第１項第２号イ又は第３号イの認定を受けたプログラム"]
[null,"(","大臣認定番号",null,null,null,null,null,null,null,null,null,null,")"]
[null,"□","その他のプログラム"]
[]
[]
["【7.建築基準法施行令第137条の２各号に定める基準の区分】"]
[null,"(",null,null,null,null,")"]
[]
[]
["【8.備考】"]

{"sheet":"計画変更確認申請書第一面","index":12,"n_rows":41,"n_cols":18,"rows_kept":41,"cut":false,"hidden":false,"merged":[[14,8,14,16],[23,6,23,10],[35,11,35,18],[33,5,33,7],[33,8,33,10],[34,5,36,7],[34,8,36,10],[15,5,15,7],[33,11,33,18],[34,11,34,18],[25,5,25,10],[28,5,28,14],[26,5,26,14],[25,11,25,17],[15,8,15,16],[2,0,3,18],[33,2,33,4],[34,2,36,4],[33,0,33,1],[34,0,34,1],[16,8,16,16],[18,8,18,16],[19,8,19,16],[32,0,32,1],[5,0,5,18],[27,5,27,14],[7,0,7,18],[8,0,8,18],[36,0,36,1],[36,11,36,18],[35,0,35,1]]}
["規則別記第四号様式(第一条の三、第三条、第三条の三関係)（Ａ４）"]
[]
["計 画 変 更 確 認 申 請 書（建築物）"]
[]
[]
["（第一面）"]
[]
["　建築基準法第６条第１項又は第６条の２第１項の規定による計画の変更の確認を申請します。こ"]
["の申請書及び添付図書に記載の事項は、事実に相違ありません。"]
[]
[]
["　株式会社香川県建築住宅センタ－   様"]
[]
[null,null,null,null,null,null,null,null,null,"令和",null,"年",null,"月",null,null,"日"]
[]
[null,null,null,null,null,"申請者氏名"]
[null,null,null,null,null,null,null,null,null,null,null,null,null,null,null,null,null,{"$f":"IF(I17=0,\"\",\"印\")","v":""}]
[]
[]
[null,null,null,null,null,null,"設計者氏名",null,{"$f":"確認申請書第二面!D25","v":0}]
[]
[]
["【計画を変更する建築物の直前の確認】"]
[null,"【確認済証番号】",null,null,null,"第",null,null,null,null,null,"号"]
[null,"【確認済証交付年月日】",null,null,null,"令和",null,"年",null,"月",null,"日"]
[null,"【確認済証交付者】",null,null,null,"株式会社香川県建築住宅センター"]
[null,"【計画変更の概要】"]
[]
[]
[]
[]
[]
["※手数料欄"]
["※受付欄",null,"※消防関係同意欄",null,null,"※ 審 査 欄",null,null,"※ 決 裁 欄",null,null,"※確認番号欄"]
["令和　　年　　月　　日",null,null,null,null,null,null,null,null,null,null,"令和　　年　　月　　日"]
["第　　　　　　 　　　　号",null,null,null,null,null,null,null,null,null,null,"第　　　　　　　　 　　　　号"]
["係員印氏名",null,null,null,null,null,null,null,null,null,null,"係員氏名"]
[]
["（注意）"]
["① 数字は算用数字を用いてください。"]
["② ※印のある欄は記入しないでください。"]

{"sheet":"委任状","index":13,"n_rows":39,"n_cols":26,"rows_kept":39,"cut":false,"hidden":false,"merged":[[0,0,0,25],[4,4,4,9],[9,4,9,10],[36,3,37,13],[35,3,35,7],[33,3,33,12],[34,3,34,13],[36,15,37,25],[35,15,35,19],[34,15,34,24],[33,15,33,24],[3,11,3,14],[3,18,3,22],[8,4,8,25],[7,4,7,8],[17,4,17,25],[38,4,38,14],[38,15,38,25],[30,17,30,18],[30,20,30,21],[30,23,30,24],[30,15,30,16],[3,4,3,5],[18,4,18,25],[5,21,5,24],[6,4,6,25],[5,4,5,5],[5,13,5,15],[5,17,5,20]]}
["委　任　状"]
[]
[null,"【代理者】"]
[null,null,"【資　格】","(",{"$f":"確認申請書第二面!D14","v":0},null,")","建築士",null,null,"(",{"$f":"確認申請書第二面!I14","v":0},null,null,null,") 登録第",null,null,{"$f":"確認申請書第二面!N14","v":0},null,null,null,null,"号"]
[null,null,"【氏　名】",null,{"$f":"確認申請書第二面!D15","v":0}]
[null,null,"【建築士事務所名】","(",{"$f":"確認申請書第二面!D16","v":0},null,")","建築士事務所",null,null,null,null,"(",{"$f":"確認申請書第二面!J16","v":0},null,null,")","知事登録第",null,null,null,{"$f":"確認申請書第二面!N16","v":0},null,null,null,"号"]
[null,null,null,null,{"$f":"確認申請書第二面!D17","v":0}]
[null,null,"【郵便番号】",null,{"$f":"IF(確認申請書第二面!D18=\"\",\"\",確認申請書第二面!D18)","v":""}]
[null,null,"【所在地】",null,{"$f":"確認申請書第二面!D19","v":0}]
[null,null,"【電話番号】",null,{"$f":"確認申請書第二面!D20","v":0}]
[]
[]
[]
[null,"上記の者を代理者と定め、下記の建築物に関する手続き及び交付される文書の受領、及び"]
[null,"その他付随する一切の権限を委任します。"]
[]
[]
[null,null,"【1.地名地番】",null,{"$f":"確認申請書第三面!F5","v":0}]
[null,null,"【2.主要用途】",null,{"$f":"確認申請書第三面!N42","v":0}]
[null,null,"【3.委任事項】"]
[]
[null,null,null,"□","確認申請業務"]
[null,null,null,"□","中間検査業務"]
[null,null,null,"□","完了検査業務"]
[]
[]
[]
[]
[]
[]
[null,null,null,null,null,null,null,null,null,null,null,null,null,null,null,{"$f":"確認申請書第一面!Q17","v":"令和"},null,null,null,"年",null,null,"月",null,null,"日"]
[]
[null,"【委任者】"]
[null,null,"【氏名のフリガナ】",{"$f":"確認申請書第二面!D6","v":0},null,null,null,null,null,null,null,null,null,null,null,{"$f":"確認申請書第二面別紙!D6","v":0}]
[null,null,"【氏　名】",{"$f":"確認申請書第二面!D7","v":" "},null,null,null,null,null,null,null,null,null,null,null,{"$f":"確認申請書第二面別紙!D7","v":0},null,null,null,null,null,null,null,null,null,{"$f":"IF(P35=0,\" \",\"印\")","v":" "}]
[null,null,"【郵便番号】",{"$f":"IF(確認申請書第二面!D8=\"\",\"\",確認申請書第二面!D8)","v":""},null,null,null,null,null,null,null,null,null,null,null,{"$f":"IF(確認申請書第二面別紙!D8=\"\",\"\",確認申請書第二面別紙!D8)","v":""}]
[null,null,"【住　所】",{"$f":"確認申請書第二面!D9","v":0},null,null,null,null,null,null,null,null,null,null,null,{"$f":"確認申請書第二面別紙!D9","v":0}]
[]
[null,null,"【電話番号】",null,{"$f":"確認申請書第二面!D10","v":0},null,null,null,null,null,null,null,null,null,null,{"$f":"確認申請書第二面別紙!D10","v":0}]

{"sheet":"建築工事届","index":14,"n_rows":150,"n_cols":31,"rows_kept":150,"cut":false,"hidden":false,"merged":[[61,11,61,12],[61,14,61,15],[89,24,89,27],[106,8,106,11],[106,16,106,19],[106,24,106,27],[61,17,61,18],[62,11,62,12],[62,14,62,15],[62,17,62,18],[89,8,89,11],[89,16,89,19],[74,5,74,29],[83,14,83,20],[84,14,84,20],[85,14,85,20],[108,8,108,12],[108,16,108,20],[108,24,108,28],[109,8,109,11],[111,8,111,13],[109,16,109,19],[111,16,111,21],[109,24,109,27],[146,15,146,16],[148,13,148,16],[149,13,149,16],[137,0,137,31],[142,16,142,22],[141,16,141,22],[145,15,145,16],[113,24,113,29],[111,24,111,29],[132,6,132,9],[119,0,119,31],[140,16,140,22],[132,24,132,27],[133,24,133,27],[132,12,132,15],[132,18,132,21],[133,6,133,9],[133,12,133,15],[133,18,133,21],[116,12,116,16],[113,8,113,13],[113,16,113,21],[5,0,5,31],[3,0,3,31],[10,22,10,23],[10,25,10,26],[10,28,10,29],[10,20,10,21],[7,0,7,31],[17,6,18,17],[25,10,25,29],[26,10,26,29],[47,10,47,29],[46,10,46,29],[23,10,23,29],[24,10,24,29],[27,10,27,29],[31,10,31,29],[32,10,32,29],[33,10,33,29],[17,19,18,30],[19,19,19,24],[57,0,57,31],[15,6,15,16],[15,19,15,29],[48,10,48,13],[49,10,49,29],[50,10,50,14],[34,10,34,29],[35,10,35,29],[42,10,42,29],[41,12,41,13],[41,15,41,16],[41,18,41,19],[40,11,40,19],[16,19,16,23],[16,6,16,10],[19,6,19,11]]}
["第四十号様式（第八条関係）（Ａ４)"]
[]
[]
["建築基準法第15条第１項の規定による"]
[]
["建築工事届"]
[]
["（第一面）"]
[]
[]
[null,null,null,null,null,null,null,null,null,null,null,null,null,null,null,null,null,null,null,null,{"$f":"確認申請書第一面!Q17","v":"令和"},null,null,null,"年",null,null,"月",null,null,"日"]
["　香川県知事　様"]
[]
[]
[null,"建築主"]
[null,null,null,"氏名",null,null,{"$f":"確認申請書第二面!D7","v":" "},null,null,null,null,null,null,null,null,null,null,null,null,{"$f":"確認申請書第二面別紙!D7","v":0}]
[null,null,null,"郵便番号",null,null,{"$f":"IF(確認申請書第二面!D8=\"\",\"\",確認申請書第二面!D8)","v":""},null,null,null,null,null,null,null,null,null,null,null,null,{"$f":"IF(確認申請書第二面別紙!D8=\"\",\"\",確認申請書第二面別紙!D8)","v":""}]
[null,null,null,"住所",null,null,{"$f":"確認申請書第二面!D9","v":0},null,null,null,null,null,null,null,null,null,null,null,null,{"$f":"確認申請書第二面別紙!D9","v":0}]
[]
[null,null,null,"電話番号",null,null,{"$f":"確認申請書第二面!D10","v":0},null,null,null,null,null,null,null,null,null,null,null,null,{"$f":"確認申請書第二面別紙!D10","v":0}]
[]
[]
[null,"工事施工者（設計者又は代理者）"]
[null,null,null,"氏名"]
[null,null,null,"営業所名（建築士事務所名）"]
[null,null,null,"郵便番号"]
[null,null,null,"所在地"]
[null,null,null,"電話番号"]
[]
[]
[null,"工事監理者"]
[null,null,null,"氏名",null,null,null,null,null,null,{"$f":"確認申請書第二面!D124","v":0}]
[null,null,null,"営業所名（建築士事務所名）",null,null,null,null,null,null,{"$f":"確認申請書第二面!D126","v":0}]
[null,null,null,"郵便番号",null,null,null,null,null,null,{"$f":"IF(確認申請書第二面!D127=\"\",\"\",確認申請書第二面!D127)","v":""}]
[null,null,null,"所在地",null,null,null,null,null,null,{"$f":"確認申請書第二面!D128","v":0}]
[null,null,null,"電話番号",null,null,null,null,null,null,{"$f":"確認申請書第二面!D129","v":0}]
[]
[]
[]
[null,"建築確認"]
[null,null,null,"確認済証番号"]
[null,null,null,"確認済証交付年月日"]
[null,null,null,"確認済証交付者"]
[]
[]
[null,"除却工事施工者"]
[null,null,null,"氏名"]
[null,null,null,"営業所名"]
[null,null,null,"郵便番号"]
[null,null,null,"所在地"]
[null,null,null,"電話番号"]
[]
[]
["※受付経由機関記載欄"]
[]
[]
[]
["（第二面）"]
[]
[]
["【1.着工及び工事完了の予定期日】"]
[null,"【ｲ.着工予定期日】",null,null,null,null,null,null,null,null,"令和",{"$f":"確認申請書第三面!L102","v":0},null,"年",{"$f":"確認申請書第三面!O102","v":0},null,"月",{"$f":"確認申請書第三面!R102","v":0},null,"日"]
[null,"【ﾛ.工事完了予定期日】",null,null,null,null,null,null,null,null,"令和",{"$f":"確認申請書第三面!L105","v":0},null,"年",{"$f":"確認申請書第三面!O105","v":0},null,"月",{"$f":"確認申請書第三面!R105","v":0},null,"日"]
[]
[]
["【2.建築主】"]
[null,"【ｲ.建築主の種別】",null,null,null,null,null,null,"□","(1)","国",null,null,null,"□","(2)","都道府県",null,null,null,null,null,"□","(3)","市区町村"]
[null,null,null,null,null,null,null,null,"□","(4)","会社",null,null,null,"□","(5)","会社でない団体",null,null,null,null,null,"□","(6)","個人"]
[null,"【ﾛ.資本の額又は出資の総額】",null,null,null,null,null,null,null,null,"□","(1)","1,000万円以下",null,null,null,null,"□","(2)","1,000万円超～3,000万円以下"]
[null,null,null,null,null,null,null,null,null,null,"□","(3)","3,000万円超～1億円以下"]
[null,null,null,null,null,null,null,null,null,null,"□","(4)","1億円超～10億円以下",null,null,null,null,null,null,"□","(5)","10億円超"]
[]
[]
["【3.敷地の位置】"]
[null,"【ｲ.地名地番】",null,null,null,{"$f":"確認申請書第三面!F5","v":0}]
[null,"【ﾛ.都市計画】",null,null,{"$f":"IF(確認申請書第三面!J12=\"■\",\"○\",\"\")","v":""},"□","(1)","市街化区域",null,null,null,null,"□","(2)","市街化調整区域"]
[null,null,null,null,null,"□","(3)","区域区分非設定都市計画区域",null,null,null,null,null,null,null,null,null,null,"□","(4)","準都市計画区域"]
[null,null,null,null,null,"□","(5)","都市計画区域及び準都市計画区域外"]
[]
[]
["【4.工事種別】",null,null,null,null,{"$f":"IF(確認申請書第三面!B46=\"■\",\"■\",\"□\")","v":"□"},"(1)","新築",null,null,{"$f":"IF(確認申請書第三面!E46=\"■\",\"■\",\"□\")","v":"□"},"(2)","増築",null,null,{"$f":"IF(確認申請書第三面!H46=\"■\",\"■\",\"□\")","v":"□"},"(3)","改築",null,null,{"$f":"IF(確認申請書第三面!K46=\"■\",\"■\",\"□\")","v":"□"},"(4)","移転"]
[]
[]
["【5.主要用途】",null,null,null,"　","(1)","居住専用建築物",null,null,null,null,null,null,"(",null,null,null,null,null,null,null,")"]
[null,null,null,null,null,"(2)","居住産業併用建築物",null,null,null,null,null,null,"(",null,null,null,null,null,null,null,")"]
[null,null,null,null,null,"(3)","産業専用建築物",null,null,null,null,null,null,"(",null,null,null,null,null,null,null,")"]
[]
[]
["【6.一の建築物ごとの内容】"]
[null,"【ｲ.番号】",null,null,null,null,null,"(",{"$f":"確認申請書第四面!F5","v":0},null,null,null,")",null,null,"（",null,null,null,null,")",null,null,"（",null,null,null,null,")"]
[null,"【ﾛ.用途】",null,null,null,null,"□","(1)","事務所等",null,null,null,null,null,"□","(1)","事務所等",null,null,null,null,null,"□","(1)","事務所等"]
[null,null,null,null,null,null,"□","(2)","物品販売業を",null,null,null,null,null,"□","(2)","物品販売業を",null,null,null,null,null,"□","(2)","物品販売業を"]
[null,null,null,null,null,null,null,null,"営む店舗等",null,null,null,null,null,null,null,"営む店舗等",null,null,null,null,null,null,null,"営む店舗等"]
[null,null,null,null,null,null,"□","(3)","工場，作業場",null,null,null,null,null,"□","(3)","工場，作業場",null,null,null,null,null,"□","(3)","工場，作業場"]
[null,null,null,null,null,null,"□","(4)","倉庫",null,null,null,null,null,"□","(4)","倉庫",null,null,null,null,null,"□","(4)","倉庫"]
[null,null,null,null,null,null,"□","(5)","学校",null,null,null,null,null,"□","(5)","学校",null,null,null,null,null,"□","(5)","学校"]
[null,null,null,null,null,null,"□","(6)","病院，診療所",null,null,null,null,null,"□","(6)","病院，診療所",null,null,null,null,null,"□","(6)","病院，診療所"]
[null,null,null,null,null,null,"□","(9)","その他",null,null,null,null,null,"□","(9)","その他",null,null,null,null,null,"□","(9)","その他"]
[null,null,null,null,null,null,"□","多用途",null,null,null,null,null,null,"□","多用途",null,null,null,null,null,null,"□","多用途"]
[null,"【ﾊ.工事部分の構造】",null,null,null,null,"□","(1)","木造",null,null,null,null,null,"□","(1)","木造",null,null,null,null,null,"□","(1)","木造"]
[null,null,null,null,null,null,"□","(2)","鉄骨鉄筋コン",null,null,null,null,null,"□","(2)","鉄骨鉄筋コン",null,null,null,null,null,"□","(2)","鉄骨鉄筋コン"]
[null,null,null,null,null,null,null,null,"クリート造",null,null,null,null,null,null,null,"クリート造",null,null,null,null,null,null,null,"クリート造"]
[null,null,null,null,null,null,"□","(3)","鉄筋ｺﾝｸﾘｰﾄ造",null,null,null,null,null,"□","(3)","鉄筋ｺﾝｸﾘｰﾄ造",null,null,null,null,null,"□","(3)","鉄筋ｺﾝｸﾘｰﾄ造"]
[null,null,null,null,null,null,"□","(4)","鉄骨造",null,null,null,null,null,"□","(4)","鉄骨造",null,null,null,null,null,"□","(4)","鉄骨造"]
[null,null,null,null,null,null,"□","(5)","ｺﾝｸﾘｰﾄﾌﾞﾛｯｸ造",null,null,null,null,null,"□","(5)","ｺﾝｸﾘｰﾄﾌﾞﾛｯｸ造",null,null,null,null,null,"□","(5)","ｺﾝｸﾘｰﾄﾌﾞﾛｯｸ造"]
[null,null,null,null,null,null,"□","(6)","その他",null,null,null,null,null,"□","(6)","その他",null,null,null,null,null,"□","(6)","その他"]
[null,"【ﾆ.工事の予定期間】",null,null,null,null,null,"(",null,null,null,null,null,"月間",")","(",null,null,null,null,null,"月間",")","(",null,null,null,null,null,"月間",")"]
[null,"【ﾎ.工事部分の"]
[null,null,null,"床面積の合計】",null,null,null,"(",{"$f":"確認申請書第四面!K84","v":0},null,null,null,null,"㎡",")","(",null,null,null,null,null,"㎡",")","(",null,null,null,null,null,"㎡",")"]
[null,"【ﾍ.建築工事費予定額】",null,null,null,null,null,"(",null,null,null,null,null,"万円",")","(",null,null,null,null,null,"万円",")","(",null,null,null,null,null,"万円",")"]
[null,"【ﾄ.新築工事の場合における地上の階数】"]
[null,null,null,null,null,null,null,"(",{"$f":"確認申請書第四面!L51","v":0},null,null,null,null,null,")","(",null,null,null,null,null,null,")","(",null,null,null,null,null,null,")"]
[null,"【ﾁ.新築工事の場合における地下の階数】"]
[null,null,null,null,null,null,null,"(",{"$f":"確認申請書第四面!L52","v":0},null,null,null,null,null,")","(",null,null,null,null,null,null,")","(",null,null,null,null,null,null,")"]
[]
[]
["【7.新築工事の場合における敷地面積】",null,null,null,null,null,null,null,null,null,null,null,{"$f":"IF(F81=\"□\",\"\",確認申請書第三面!J35)","v":""},null,null,null,null,"㎡"]
[]
[]
["（第三面）"]
[]
[]
["【1.住宅部分の概要】"]
[null,"【ｲ.番号】"]
[null,"【ﾛ.新設又はその他の別】",null,null,null,null,null,null,"(1)","新　設",null,null,"（","□","新築",null,null,"□","増築",null,null,"□","改築",null,"）"]
[null,null,null,null,null,null,null,null,"(2)","その他",null,null,"（",null,null,null,null,"□","増築",null,null,"□","改築",null,"）"]
[null,"【ﾊ.新設住宅の資金】",null,null,null,null,null,"□","(1)","民間資金住宅",null,null,null,null,null,"□","(2)","公営住宅",null,null,null,"□","(3)","住宅金融支援機構住宅"]
[null,null,null,null,null,null,null,"□","(4)","都市再生機構住宅",null,null,null,null,null,null,"□","(5)","その他"]
[null,"【ﾆ.住宅の建築工法】",null,null,null,null,null,"□","(1)","在来工法",null,null,null,"□","(2)","プレハブ工法",null,null,null,null,"□","(3)","枠組壁工法"]
[null,"【ﾎ.住宅の種類】",null,null,null,null,"□","(1)","専用住宅",null,null,null,"□","(2)","併用住宅",null,null,null,"□","(3)","その他の住宅"]
[null,"【ﾍ.住宅の建て方】",null,null,null,null,"□","(1)","一戸建住宅",null,null,null,null,"□","(2)","長屋建住宅",null,null,null,null,"□","(3)","共同住宅"]
[null,"【ﾄ.利用関係】",null,null,null,null,"□","(1)","持家",null,null,null,"□","(2)","貸家",null,null,null,"□","(3)","給与住宅",null,null,null,"□","(4)","分譲住宅"]
[null,"【ﾁ.住宅の戸数】",null,null,null,"（",null,null,null,null,"戸",")(",null,null,null,null,"戸",")(",null,null,null,null,"戸",")(",null,null,null,null,"戸",")"]
[null,"【ﾘ.工事部分の",null,null,null,"（",null,null,null,null,"㎡",")(",null,null,null,null,"㎡",")(",null,null,null,null,"㎡",")(",null,null,null,null,"㎡",")"]
[null,null,"床面積の合計】"]
[]
[]
["（第四面）"]
[]
[]
["【1.主要用途】",null,null,null,null,null,null,"(1)","居住専用建築物",null,null,null,null,null,null,"(",null,null,null,null,null,null,null,")"]
[null,null,null,null,null,null,null,"(2)","居住産業併用建築物",null,null,null,null,null,null,"(",null,null,null,null,null,null,null,")"]
[null,null,null,null,null,null,null,"(3)","産業専用建築物",null,null,null,null,null,null,"(",null,null,null,null,null,null,null,")"]
["【2.除却要因】",null,null,null,null,null,"□","(1)","老朽して危険があるため",null,null,null,null,null,null,null,"□","(2)","その他"]
["【3.構造】",null,null,null,null,null,"□","(1)","木造",null,null,null,null,null,null,null,"□","(2)","その他"]
["【4.建築物の数】"]
["【5.住宅の戸数】",null,null,null,null,null,null,null,null,null,null,null,null,null,null,null,null,"戸"]
["【6.住宅の利用関係】",null,null,null,null,null,"□","(1)","持家",null,null,"□","(2)","貸家",null,null,"□","(3)","給与住宅"]
["【7.建築物の床面積の合計】",null,null,null,null,null,null,null,null,null,null,null,null,null,null,null,null,"㎡"]
["【8.建築物の評価額】",null,null,null,null,null,null,null,null,null,null,null,null,null,null,null,null,"千円"]

{"sheet":"建築概要書第一面","index":15,"n_rows":172,"n_cols":16,"rows_kept":172,"cut":false,"hidden":false,"merged":[[0,0,0,15],[4,0,4,15],[8,3,8,14],[9,3,9,14],[10,3,10,5],[11,3,11,14],[2,0,2,15],[19,3,19,5],[20,3,20,14],[21,3,21,6],[25,8,25,10],[25,13,25,14],[26,3,26,14],[15,8,15,10],[15,13,15,14],[16,3,16,14],[17,13,17,14],[18,3,18,14],[35,8,35,10],[35,13,35,14],[36,3,36,14],[37,13,37,14],[38,3,38,14],[39,3,39,5],[27,13,27,14],[28,3,28,14],[29,3,29,5],[30,3,30,14],[31,3,31,6],[32,3,32,14],[46,13,46,14],[47,3,47,14],[48,3,48,5],[49,3,49,14],[50,3,50,6],[51,3,51,14],[40,3,40,14],[41,3,41,6],[42,3,42,14],[44,8,44,10],[44,13,44,14],[45,3,45,14],[58,3,58,14],[59,3,59,6],[60,3,60,14],[65,2,65,7],[66,5,66,7],[68,2,68,7],[53,8,53,10],[53,13,53,14],[54,3,54,14],[55,13,55,14],[56,3,56,14],[57,3,57,5],[76,5,76,7],[78,2,78,7],[79,5,79,7],[80,2,80,7],[81,5,81,7],[82,2,82,7],[69,5,69,7],[71,2,71,7],[72,5,72,7],[73,2,73,7],[74,5,74,7],[75,2,75,7],[93,2,93,6],[94,2,94,14],[97,2,97,7],[98,2,98,7],[99,2,99,4],[100,2,100,14],[83,5,83,7],[88,2,88,7],[89,2,89,7],[90,2,90,4],[91,2,91,14],[92,2,92,6],[108,2,108,14],[109,2,109,6],[110,2,110,6],[111,2,111,14],[113,2,113,7],[114,2,114,7],[101,2,101,6],[102,2,102,6],[103,2,103,14],[105,2,105,7],[106,2,106,7],[107,2,107,4],[125,3,125,14],[126,13,126,14],[127,3,127,14],[128,3,128,5],[129,3,129,14],[130,3,130,6],[115,2,115,4],[116,2,116,14],[117,2,117,6],[118,2,118,6],[119,2,119,14],[124,8,124,10],[124,13,124,14],[149,3,149,6],[138,3,138,5],[139,3,139,14],[140,3,140,6],[141,3,141,14],[143,8,143,10],[143,13,143,14],[131,3,131,14],[134,8,134,10],[134,13,134,14],[135,3,135,14],[136,13,136,14],[137,3,137,14],[165,3,165,14],[166,3,166,5],[167,3,167,14],[168,3,168,6],[171,4,171,14],[3,0,3,15],[156,3,156,5],[157,3,157,14],[158,3,158,6],[159,3,159,14],[163,3,163,14],[164,2,164,5],[164,11,164,13],[150,3,150,14],[152,8,152,10],[152,13,152,14],[153,3,153,14],[154,13,154,14],[155,3,155,14],[144,3,144,14],[145,13,145,14],[146,3,146,14],[147,3,147,5],[148,3,148,14]]}
["規則別記第三号様式（第一条の三、第三条、第三条の三、第三条の四、第三条の七、第三条の十、第六条の三、"]
["第十一条の三関係）（Ａ４）"]
["建築計画概要書"]
["（第一面）"]
["建築主等の概要"]
[]
[]
["【1.建築主】"]
[null,"【イ.氏名のフリガナ】",null,{"$f":"確認申請書第二面!D6","v":0}]
[null,"【ロ.氏名】",null,{"$f":"確認申請書第二面!D7","v":" "}]
[null,"【ハ.郵便番号】",null,{"$f":"IF(確認申請書第二面!D8=\"\",\"\",確認申請書第二面!D8)","v":""}]
[null,"【ニ.住所】",null,{"$f":"確認申請書第二面!D9","v":0}]
[]
[]
["【2.代理者】"]
[null,"【イ.資格】","（",{"$f":"確認申請書第二面!D14","v":0},"）","建築士",null,"(",{"$f":"確認申請書第二面!I14","v":0},null,null,")     登録第",null,{"$f":"確認申請書第二面!N14","v":0},null,"号"]
[null,"【ロ.氏名】",null,{"$f":"確認申請書第二面!D15","v":0}]
[null,"【ハ.建築士事務所名】","（",{"$f":"確認申請書第二面!D16","v":0},"）","建築士事務所",null,null,"（",{"$f":"確認申請書第二面!J16","v":0},"）","知事登録第",null,{"$f":"確認申請書第二面!N16","v":0},null,"号"]
[null,null,null,{"$f":"確認申請書第二面!D17","v":0}]
[null,"【ニ.郵便番号】",null,{"$f":"IF(確認申請書第二面!D18=\"\",\"\",確認申請書第二面!D18)","v":""}]
[null,"【ホ.所在地】",null,{"$f":"確認申請書第二面!D19","v":0}]
[null,"【ヘ.電話番号】",null,{"$f":"確認申請書第二面!D20","v":0}]
[]
["【3.設計者】"]
["（代表となる設計者）"]
[null,"【イ.資格】","（",{"$f":"確認申請書第二面!D24","v":0},"）","建築士",null,"(",{"$f":"確認申請書第二面!I24","v":0},null,null,")     登録第",null,{"$f":"確認申請書第二面!N24","v":0},null,"号"]
[null,"【ロ.氏名】",null,{"$f":"確認申請書第二面!D25","v":0}]
[null,"【ハ.建築士事務所名】","（",{"$f":"確認申請書第二面!D26","v":0},"）","建築士事務所",null,null,"（",{"$f":"確認申請書第二面!J26","v":0},"）","知事登録第",null,{"$f":"確認申請書第二面!N26","v":0},null,"号"]
[null,null,null,{"$f":"確認申請書第二面!D27","v":0}]
[null,"【ニ.郵便番号】",null,{"$f":"IF(確認申請書第二面!D28=\"\",\"\",確認申請書第二面!D28)","v":""}]
[null,"【ホ.所在地】",null,{"$f":"確認申請書第二面!D29","v":0}]
[null,"【ヘ.電話番号】",null,{"$f":"確認申請書第二面!D30","v":0}]
[null,"【ト.作成又は確認した設計図書】",null,{"$f":"確認申請書第二面!D31","v":0}]
[]
["（その他の設計者）"]
[null,"【イ.資格】","（",{"$f":"確認申請書第二面!D34","v":0},"）","建築士",null,"(",{"$f":"確認申請書第二面!I34","v":0},null,null,")     登録第",null,{"$f":"確認申請書第二面!N34","v":0},null,"号"]
[null,"【ロ.氏名】",null,{"$f":"確認申請書第二面!D35","v":0}]
[null,"【ハ.建築士事務所名】","（",{"$f":"確認申請書第二面!D36","v":0},"）","建築士事務所",null,null,"（",{"$f":"確認申請書第二面!J36","v":0},"）","知事登録第",null,{"$f":"確認申請書第二面!N36","v":0},null,"号"]
[null,null,null,{"$f":"確認申請書第二面!D37","v":0}]
[null,"【ニ.郵便番号】",null,{"$f":"IF(確認申請書第二面!D38=\"\",\"\",確認申請書第二面!D38)","v":""}]
[null,"【ホ.所在地】",null,{"$f":"確認申請書第二面!D39","v":0}]
[null,"【ヘ.電話番号】",null,{"$f":"確認申請書第二面!D40","v":0}]
[null,"【ト.作成又は確認した設計図書】",null,{"$f":"確認申請書第二面!D41","v":0}]
[]
[null,"【イ.資格】","（",{"$f":"確認申請書第二面!D43","v":0},"）","建築士",null,"(",{"$f":"確認申請書第二面!I43","v":0},null,null,")     登録第",null,{"$f":"確認申請書第二面!N43","v":0},null,"号"]
[null,"【ロ.氏名】",null,{"$f":"確認申請書第二面!D44","v":0}]
[null,"【ハ.建築士事務所名】","（",{"$f":"確認申請書第二面!D44","v":0},"）","建築士事務所",null,null,"（",{"$f":"確認申請書第二面!J45","v":"　"},"）","知事登録第",null,{"$f":"確認申請書第二面!N45","v":0},null,"号"]
[null,null,null,{"$f":"確認申請書第二面!D46","v":0}]
[null,"【ニ.郵便番号】",null,{"$f":"IF(確認申請書第二面!D47=\"\",\"\",確認申請書第二面!D47)","v":""}]
[null,"【ホ.所在地】",null,{"$f":"確認申請書第二面!D48","v":0}]
[null,"【ヘ.電話番号】",null,{"$f":"確認申請書第二面!D49","v":0}]
[null,"【ト.作成又は確認した設計図書】",null,{"$f":"確認申請書第二面!D50","v":0}]
[]
[null,"【イ.資格】","（",{"$f":"確認申請書第二面!D52","v":0},"）","建築士",null,"(",{"$f":"確認申請書第二面!I52","v":0},null,null,")     登録第",null,{"$f":"確認申請書第二面!N52","v":0},null,"号"]
[null,"【ロ.氏名】",null,{"$f":"確認申請書第二面!D53","v":0}]
[null,"【ハ.建築士事務所名】","（",{"$f":"確認申請書第二面!D53","v":0},"）","建築士事務所",null,null,"（",{"$f":"確認申請書第二面!J54","v":"　"},"）","知事登録第",null,{"$f":"確認申請書第二面!N54","v":0},null,"号"]
[null,null,null,{"$f":"確認申請書第二面!D55","v":0}]
[null,"【ニ.郵便番号】",null,{"$f":"IF(確認申請書第二面!D56=\"\",\"\",確認申請書第二面!D56)","v":""}]
[null,"【ホ.所在地】",null,{"$f":"確認申請書第二面!D57","v":0}]
[null,"【ヘ.電話番号】",null,{"$f":"確認申請書第二面!D58","v":0}]
[null,"【ト.作成又は確認した設計図書】",null,{"$f":"確認申請書第二面!D59","v":0}]
[]
["（構造設計一級建築士又は設備設計一級建築士である旨の表示をした者）"]
["上記の設計者のうち、"]
["□建築士法第20条の２第１項の表示をした者"]
[null,"【イ.氏名】",{"$f":"確認申請書第二面!C64","v":0}]
[null,"【ロ.資格】　　構造設計一級建築士交付第",null,null,null,{"$f":"確認申請書第二面!F65","v":0},null,null,"号"]
["□建築士法第20条の２第３項の表示をした者"]
[null,"【イ.氏名】",{"$f":"確認申請書第二面!C67","v":0}]
[null,"【ロ.資格】　　構造設計一級建築士交付第",null,null,null,{"$f":"確認申請書第二面!F68","v":0},null,null,"号"]
["□建築士法第20条の３第１項の表示をした者"]
[null,"【イ.氏名】",{"$f":"確認申請書第二面!C70","v":0}]
[null,"【ロ.資格】　　設備設計一級建築士交付第",null,null,null,{"$f":"確認申請書第二面!F71","v":0},null,null,"号"]
[null,"【イ.氏名】",{"$f":"確認申請書第二面!C72","v":0}]
[null,"【ロ.資格】　　設備設計一級建築士交付第",null,null,null,{"$f":"確認申請書第二面!F73","v":0},null,null,"号"]
[null,"【イ.氏名】",{"$f":"確認申請書第二面!C74","v":0}]
[null,"【ロ.資格】　　設備設計一級建築士交付第",null,null,null,{"$f":"確認申請書第二面!F75","v":0},null,null,"号"]
["□建築士法第20条の３第３項の表示をした者"]
[null,"【イ.氏名】",{"$f":"確認申請書第二面!C77","v":0}]
[null,"【ロ.資格】　　設備設計一級建築士交付第",null,null,null,{"$f":"確認申請書第二面!F78","v":0},null,null,"号"]
[null,"【イ.氏名】",{"$f":"確認申請書第二面!C79","v":0}]
[null,"【ロ.資格】　　設備設計一級建築士交付第",null,null,null,{"$f":"確認申請書第二面!F80","v":0},null,null,"号"]
[null,"【イ.氏名】",{"$f":"確認申請書第二面!C81","v":0}]
[null,"【ロ.資格】　　設備設計一級建築士交付第",null,null,null,{"$f":"確認申請書第二面!F82","v":0},null,null,"号"]
[]
[]
["【4.建築設備の設計に関し意見を聴いた者】"]
["（代表となる建築設備の設計に関し意見を聴いた者）"]
[null,"【イ.氏名】",{"$f":"確認申請書第二面!C87","v":0}]
[null,"【ロ.勤務先】",{"$f":"確認申請書第二面!C88","v":0}]
[null,"【ハ.郵便番号】",{"$f":"IF(確認申請書第二面!C89=\"\",\"\",確認申請書第二面!C89)","v":""}]
[null,"【ニ.所在地】",{"$f":"確認申請書第二面!C90","v":0}]
[null,"【ホ.電話番号】",{"$f":"確認申請書第二面!C91","v":0}]
[null,"【ヘ.登録番号】",{"$f":"確認申請書第二面!C92","v":0}]
[null,"【ト.意見を聴いた設計図書】",{"$f":"確認申請書第二面!C93","v":0}]
[]
["（その他の建築設備の設計に関し意見を聴いた者）"]
[null,"【イ.氏名】",{"$f":"確認申請書第二面!C96","v":0}]
[null,"【ロ.勤務先】",{"$f":"確認申請書第二面!C97","v":0}]
[null,"【ハ.郵便番号】",{"$f":"IF(確認申請書第二面!C98=\"\",\"\",確認申請書第二面!C98)","v":""}]
[null,"【ニ.所在地】",{"$f":"確認申請書第二面!C99","v":0}]
[null,"【ホ.電話番号】",{"$f":"確認申請書第二面!C100","v":0}]
[null,"【ヘ.登録番号】",{"$f":"確認申請書第二面!C101","v":0}]
[null,"【ト.意見を聴いた設計図書】",{"$f":"確認申請書第二面!C102","v":0}]
[]
[null,"【イ.氏名】",{"$f":"確認申請書第二面!C104","v":0}]
[null,"【ロ.勤務先】",{"$f":"確認申請書第二面!C105","v":0}]
[null,"【ハ.郵便番号】",{"$f":"IF(確認申請書第二面!C106=\"\",\"\",確認申請書第二面!C106)","v":""}]
[null,"【ニ.所在地】",{"$f":"確認申請書第二面!C107","v":0}]
[null,"【ホ.電話番号】",{"$f":"確認申請書第二面!C108","v":0}]
[null,"【ヘ.登録番号】",{"$f":"確認申請書第二面!C109","v":0}]
[null,"【ト.意見を聴いた設計図書】",{"$f":"確認申請書第二面!C110","v":0}]
[]
[null,"【イ.氏名】",{"$f":"確認申請書第二面!C112","v":0}]
[null,"【ロ.勤務先】",{"$f":"確認申請書第二面!C113","v":0}]
[null,"【ハ.郵便番号】",{"$f":"IF(確認申請書第二面!C114=\"\",\"\",確認申請書第二面!C114)","v":""}]
[null,"【ニ.所在地】",{"$f":"確認申請書第二面!C115","v":0}]
[null,"【ホ.電話番号】",{"$f":"確認申請書第二面!C116","v":0}]
[null,"【ヘ.登録番号】",{"$f":"確認申請書第二面!C117","v":0}]
[null,"【ト.意見を聴いた設計図書】",{"$f":"確認申請書第二面!C118","v":0}]
[]
[]
["【5.工事監理者】"]
["（代表となる工事監理者）"]
[null,"【イ.資格】","（",{"$f":"確認申請書第二面!D123","v":0},"）","建築士",null,"(",{"$f":"確認申請書第二面!I123","v":0},null,null,")     登録第",null,{"$f":"確認申請書第二面!N123","v":0},null,"号"]
[null,"【ロ.氏名】",null,{"$f":"確認申請書第二面!D124","v":0}]
[null,"【ハ.建築士事務所名】","（",{"$f":"確認申請書第二面!D125","v":0},"）","建築士事務所",null,null,"（",{"$f":"確認申請書第二面!J125","v":0},"）","知事登録第",null,{"$f":"確認申請書第二面!N125","v":0},null,"号"]
[null,null,null,{"$f":"確認申請書第二面!D126","v":0}]
[null,"【ニ.郵便番号】",null,{"$f":"IF(確認申請書第二面!D127=\"\",\"\",確認申請書第二面!D127)","v":""}]
[null,"【ホ.所在地】",null,{"$f":"確認申請書第二面!D128","v":0}]
[null,"【ヘ.電話番号】",null,{"$f":"確認申請書第二面!D129","v":0}]
[null,"【ト.工事と照合する設計図書】",null,{"$f":"確認申請書第二面!D130","v":0}]
[]
["（その他の工事監理者）"]
[null,"【イ.資格】","（",{"$f":"確認申請書第二面!D133","v":0},"）","建築士",null,"(",{"$f":"確認申請書第二面!I133","v":0},null,null,")     登録第",null,{"$f":"確認申請書第二面!N133","v":0},null,"号"]
[null,"【ロ.氏名】",null,{"$f":"確認申請書第二面!D134","v":0}]
[null,"【ハ.建築士事務所名】","（",{"$f":"確認申請書第二面!D135","v":0},"）","建築士事務所",null,null,"（",{"$f":"確認申請書第二面!J135","v":0},"）","知事登録第",null,{"$f":"確認申請書第二面!N135","v":0},null,"号"]
[null,null,null,{"$f":"確認申請書第二面!D136","v":0}]
[null,"【ニ.郵便番号】",null,{"$f":"IF(確認申請書第二面!D137=\"\",\"\",確認申請書第二面!D137)","v":""}]
[null,"【ホ.所在地】",null,{"$f":"確認申請書第二面!D138","v":0}]
[null,"【ヘ.電話番号】",null,{"$f":"確認申請書第二面!D139","v":0}]
[null,"【ト.工事と照合する設計図書】",null,{"$f":"確認申請書第二面!D140","v":0}]
[]
[null,"【イ.資格】","（",{"$f":"確認申請書第二面!D142","v":0},"）","建築士",null,"(",{"$f":"確認申請書第二面!I142","v":0},null,null,")     登録第",null,{"$f":"確認申請書第二面!N142","v":0},null,"号"]
[null,"【ロ.氏名】",null,{"$f":"確認申請書第二面!D143","v":0}]
[null,"【ハ.建築士事務所名】","（",{"$f":"確認申請書第二面!D144","v":0},"）","建築士事務所",null,null,"（",{"$f":"確認申請書第二面!J144","v":0},"）","知事登録第",null,{"$f":"確認申請書第二面!N144","v":0},null,"号"]
[null,null,null,{"$f":"確認申請書第二面!D145","v":0}]
[null,"【ニ.郵便番号】",null,{"$f":"IF(確認申請書第二面!D146=\"\",\"\",確認申請書第二面!D146)","v":""}]
[null,"【ホ.所在地】",null,{"$f":"確認申請書第二面!D147","v":0}]
[null,"【ヘ.電話番号】",null,{"$f":"確認申請書第二面!D148","v":0}]
[null,"【ト.工事と照合する設計図書】",null,{"$f":"確認申請書第二面!D149","v":0}]
[]
[null,"【イ.資格】","（",{"$f":"確認申請書第二面!D151","v":0},"）","建築士",null,"(",{"$f":"確認申請書第二面!I151","v":0},null,null,")     登録第",null,{"$f":"確認申請書第二面!N151","v":0},null,"号"]
[null,"【ロ.氏名】",null,{"$f":"確認申請書第二面!D152","v":0}]
[null,"【ハ.建築士事務所名】","（",{"$f":"確認申請書第二面!D153","v":0},"）","建築士事務所",null,null,"（",{"$f":"確認申請書第二面!J153","v":0},"）","知事登録第",null,{"$f":"確認申請書第二面!N153","v":0},null,"号"]
[null,null,null,{"$f":"確認申請書第二面!D154","v":0}]
[null,"【ニ.郵便番号】",null,{"$f":"IF(確認申請書第二面!D155=\"\",\"\",確認申請書第二面!D155)","v":""}]
[null,"【ホ.所在地】",null,{"$f":"確認申請書第二面!D156","v":0}]
[null,"【ヘ.電話番号】",null,{"$f":"確認申請書第二面!D157","v":0}]
[null,"【ト.工事と照合する設計図書】",null,{"$f":"確認申請書第二面!D158","v":0}]
[]
[]
["【6.工事施工者】"]
[null,"【イ.氏名】",null,{"$f":"確認申請書第二面!D162","v":0}]
[null,"【ロ.営業所名】","建設業の許可",null,null,null,"（",{"$f":"確認申請書第二面!H163","v":0},"）",null,"第",{"$f":"確認申請書第二面!L163","v":0},null,null,"号"]
[null,null,null,{"$f":"確認申請書第二面!D164","v":0}]
[null,"【ハ.郵便番号】",null,{"$f":"IF(確認申請書第二面!D165=\"\",\"\",確認申請書第二面!D165)","v":""}]
[null,"【ニ.所在地】",null,{"$f":"確認申請書第二面!D166","v":0}]
[null,"【ホ.電話番号】",null,{"$f":"確認申請書第二面!D167","v":0}]
[]
[]
["【７.備考】",null,null,"物件名：",{"$f":"確認申請書第二面!E184","v":0}]

{"sheet":"建築計画概要書第一面別紙","index":16,"n_rows":9,"n_cols":4,"rows_kept":9,"cut":false,"hidden":false,"merged":[[8,3,8,14],[0,0,0,15],[1,0,1,15],[5,3,5,14],[6,3,6,14],[7,3,7,5]]}
["建築計画概要書（第一面）"]
["別紙　建築主追加様式"]
[]
[]
["【1.追加の建築主】"]
[null,"【イ.氏名のフリガナ】",null,{"$f":"確認申請書第二面別紙!D6","v":0}]
[null,"【ロ.氏名】",null,{"$f":"確認申請書第二面別紙!D7","v":0}]
[null,"【ハ.郵便番号】",null,{"$f":"IF(確認申請書第二面別紙!D8=\"\",\"\",確認申請書第二面別紙!D8)","v":""}]
[null,"【ニ.住所】",null,{"$f":"確認申請書第二面別紙!D9","v":0}]

{"sheet":"建築計画概要書第二面","index":17,"n_rows":123,"n_cols":34,"rows_kept":123,"cut":false,"hidden":false,"merged":[[51,10,51,14],[51,17,51,21],[51,24,51,28],[63,10,63,14],[63,17,63,21],[63,24,63,28],[72,10,72,14],[72,17,72,21],[72,24,72,28],[52,9,52,12],[56,10,56,14],[56,17,56,21],[56,24,56,28],[58,10,58,14],[58,17,58,21],[58,24,58,28],[69,10,69,14],[69,17,69,21],[69,24,69,28],[66,10,66,14],[66,17,66,21],[66,24,66,28],[68,10,68,14],[68,17,68,21],[31,20,31,23],[31,26,31,29],[49,10,49,14],[49,17,49,21],[49,24,49,28],[33,8,33,11],[33,14,33,17],[33,20,33,23],[33,26,33,29],[34,9,34,13],[37,20,37,22],[38,5,38,31],[41,8,41,11],[41,13,41,31],[0,0,0,32],[4,5,4,32],[7,5,7,32],[18,25,18,31],[22,13,22,16],[22,18,22,22],[18,18,18,24],[35,9,35,13],[36,20,36,22],[28,8,28,11],[28,14,28,17],[28,20,28,23],[28,26,28,29],[29,8,29,12],[29,14,29,18],[29,20,29,24],[29,26,29,30],[23,13,23,16],[27,8,27,11],[27,14,27,17],[27,20,27,23],[27,26,27,29],[31,8,31,11],[31,14,31,17],[75,10,75,14],[75,17,75,21],[75,24,75,28],[60,10,60,14],[60,17,60,21],[60,24,60,28],[62,10,62,14],[62,17,62,21],[62,24,62,28],[64,10,64,14],[64,17,64,21],[64,24,64,28],[65,10,65,14],[65,17,65,21],[65,24,65,28],[73,10,73,14],[73,17,73,21],[73,24,73,28],[71,10,71,14],[71,17,71,21],[71,24,71,28],[68,24,68,28],[76,9,76,12],[77,10,77,12],[87,10,87,14],[87,17,87,21],[88,10,88,14],[97,2,97,30],[88,17,88,21],[89,10,89,16],[89,19,89,29],[86,10,86,14],[86,17,86,21],[96,2,96,30],[122,2,122,30],[121,2,121,30],[120,2,120,30],[100,11,100,12],[100,14,100,15],[100,17,100,18],[103,11,103,12],[103,14,103,15],[103,17,103,18],[107,8,107,9],[107,11,107,12],[107,14,107,15],[107,17,107,29],[107,6,107,7],[108,6,108,7],[109,6,109,7]]}
["建築計画概要書（第二面）"]
["建築物及びその敷地に関する事項"]
[]
[]
["【1.地名地番】",null,null,null,null,{"$f":"確認申請書第三面!F5","v":0}]
[]
[]
["【2.住居表示】",null,null,null,null,{"$f":"確認申請書第三面!F8","v":0}]
[]
[]
["【3.都市計画区域及び準都市計画区域の内外の別等】"]
[null,null,{"$f":"確認申請書第三面!C12","v":"□"},"都市計画区域内",null,null,null,null,"(","□","市街化区域",null,null,null,null,"□","市街化調整区域",null,null,null,null,null,{"$f":"確認申請書第三面!W12","v":"□"},"区域区分非設定）"]
[null,null,"□","準都市計画区域内",null,null,null,null,null,null,null,null,{"$f":"確認申請書第三面!M13","v":"□"},"都市計画区域及び準都市計画区域外"]
[]
[]
["【4.防火地域】",null,null,null,null,null,{"$f":"確認申請書第三面!G16","v":"□"},"防火地域",null,null,null,null,{"$f":"確認申請書第三面!M16","v":"□"},"準防火地域",null,null,null,null,{"$f":"確認申請書第三面!S16","v":"□"},"指定なし"]
[]
[]
["【5.その他の区域、地域、地区又は街区】",null,null,null,null,null,null,null,null,null,null,null,null,{"$f":"確認申請書第三面!N19","v":"□"},"法２２条区域",null,null,null,{"$f":"確認申請書第三面!S19","v":"　"},null,null,null,null,null,null,{"$f":"確認申請書第三面!Z19","v":0}]
[]
[]
["【6.道路】"]
[null,"【イ.幅員】",null,null,null,null,null,null,null,null,null,null,null,{"$f":"確認申請書第三面!N23","v":0},null,null,null,"m",{"$f":"確認申請書第三面!S23","v":0}]
[null,"【ロ.敷地と接している部分の長さ】",null,null,null,null,null,null,null,null,null,null,null,{"$f":"確認申請書第三面!N24","v":0},null,null,null,"m"]
[]
[]
["【7.敷地面積】"]
[null,"【イ.敷地面積】",null,null,null,null,"(1)","(",{"$f":"確認申請書第三面!I28","v":0},null,null,null,"㎡",")(",{"$f":"確認申請書第三面!O28","v":0},null,null,null,"㎡",")(",{"$f":"確認申請書第三面!U28","v":0},null,null,null,"㎡",")(",{"$f":"確認申請書第三面!AA28","v":0},null,null,null,"㎡",")"]
[null,null,null,null,null,null,"(2)","(",{"$f":"確認申請書第三面!I29","v":0},null,null,null,"㎡",")(",{"$f":"確認申請書第三面!O29","v":0},null,null,null,"㎡",")(",{"$f":"確認申請書第三面!U29","v":0},null,null,null,"㎡",")(",{"$f":"確認申請書第三面!AA29","v":0},null,null,null,"㎡",")"]
[null,"【ロ.用途地域等】",null,null,null,null,null,"(",{"$f":"確認申請書第三面!I30","v":0},null,null,null,null,")(",{"$f":"確認申請書第三面!O30","v":0},null,null,null,null,")(",{"$f":"確認申請書第三面!U30","v":0},null,null,null,null,")(",{"$f":"確認申請書第三面!AA30","v":0},null,null,null,null,")"]
[null,"【ハ.建築基準法第52条第１項及び第２項の規定による建築物の容積率】"]
[null,null,null,null,null,null,null,"(",{"$f":"確認申請書第三面!I32","v":0},null,null,null,"％",")(",{"$f":"確認申請書第三面!O32","v":0},null,null,null,"％",")(",{"$f":"確認申請書第三面!U32","v":0},null,null,null,"％",")(",{"$f":"確認申請書第三面!AA32","v":0},null,null,null,"％",")"]
[null,"【ニ.建築基準法第53条第１項の規定による建築物の建蔽率】"]
[null,null,null,null,null,null,null,"(",{"$f":"確認申請書第三面!I34","v":0},null,null,null,"％",")(",{"$f":"確認申請書第三面!O34","v":0},null,null,null,"％",")(",{"$f":"確認申請書第三面!U34","v":0},null,null,null,"％",")(",{"$f":"確認申請書第三面!AA34","v":0},null,null,null,"％",")"]
[null,"【ホ.敷地面積の合計】",null,null,null,null,null,null,"(1)",{"$f":"確認申請書第三面!J35","v":0},null,null,null,null,"㎡"]
[null,null,null,null,null,null,null,null,"(2)",{"$f":"確認申請書第三面!J36","v":0},null,null,null,null,"㎡"]
[null,"【ヘ.敷地に建築可能な延べ面積を敷地面積で除した数値】",null,null,null,null,null,null,null,null,null,null,null,null,null,null,null,null,null,null,{"$f":"確認申請書第三面!U37","v":""},null,null,"％"]
[null,"【ト.敷地に建築可能な建築面積を敷地面積で除した数値】",null,null,null,null,null,null,null,null,null,null,null,null,null,null,null,null,null,null,{"$f":"確認申請書第三面!U38","v":""},null,null,"％"]
[null,"【チ.備考】",null,null,null,{"$f":"確認申請書第三面!F39","v":0}]
[]
[]
["【8.主要用途】",null,null,null,null,"(","区分",null,{"$f":"確認申請書第三面!I42","v":0},null,null,null,")",{"$f":"確認申請書第三面!N42","v":0}]
[]
[]
["【9.工事種別】"]
[null,{"$f":"確認申請書第三面!B46","v":"□"},"新築",null,{"$f":"確認申請書第三面!E46","v":"□"},"増築",null,{"$f":"確認申請書第三面!H46","v":"□"},"改築",null,{"$f":"確認申請書第三面!K46","v":"□"},"移転",null,{"$f":"確認申請書第三面!N46","v":"□"},"用途変更",null,null,{"$f":"確認申請書第三面!R46","v":"□"},"大規模の修繕",null,null,null,null,{"$f":"確認申請書第三面!X46","v":"□"},"大規模の模様替"]
[]
[]
["【10.建築面積】",null,null,null,null,null,null,null,null,"(","申請部分",null,null,null,null,null,")(","申請以外の部分",null,null,null,null,null,")(","合計",null,null,null,null,null,")"]
[null,"【イ.建築物全体】",null,null,null,null,null,null,null,"(",{"$f":"確認申請書第三面!K50","v":0},null,null,null,null,"㎡",")(",{"$f":"確認申請書第三面!R50","v":0},null,null,null,null,"㎡",")(",{"$f":"確認申請書第三面!Y50","v":0},null,null,null,null,"㎡",")"]
[null,"【ロ.建蔽率の算定の基礎となる建築面積】"]
[null,null,null,null,null,null,null,null,null,"(",{"$f":"確認申請書第三面!K52","v":0},null,null,null,null,"㎡",")(",{"$f":"確認申請書第三面!R52","v":0},null,null,null,null,"㎡",")(",{"$f":"確認申請書第三面!Y52","v":0},null,null,null,null,"㎡",")"]
[null,"【ハ.建蔽率】",null,null,null,null,null,null,null,{"$f":"確認申請書第三面!J53","v":""},null,null,null,"％"]
[]
[]
["【11.延べ面積】",null,null,null,null,null,null,null,null,"(","申請部分",null,null,null,null,null,")(","申請以外の部分",null,null,null,null,null,")(","合計",null,null,null,null,null,")"]
[null,"【イ.建築物全体】",null,null,null,null,null,null,null,"(",{"$f":"確認申請書第三面!K57","v":0},null,null,null,null,"㎡",")(",{"$f":"確認申請書第三面!R57","v":0},null,null,null,null,"㎡",")(",{"$f":"確認申請書第三面!Y57","v":0},null,null,null,null,"㎡",")"]
[null,"【ロ.地階の住宅又は老人ホーム等の部分】"]
[null,null,null,null,null,null,null,null,null,"(",{"$f":"確認申請書第三面!K59","v":0},null,null,null,null,"㎡",")(",{"$f":"確認申請書第三面!R59","v":0},null,null,null,null,"㎡",")(",{"$f":"確認申請書第三面!Y59","v":0},null,null,null,null,"㎡",")"]
[null,"【ハ.エレベーターの昇降路の部分】"]
[null,null,null,null,null,null,null,null,null,"(",{"$f":"確認申請書第三面!K61","v":0},null,null,null,null,"㎡",")(",{"$f":"確認申請書第三面!R61","v":0},null,null,null,null,"㎡",")(",{"$f":"確認申請書第三面!Y61","v":0},null,null,null,null,"㎡",")"]
[null,"【ニ.共同住宅又は老人ホーム等の共用の廊下等の部分】"]
[null,null,null,null,null,null,null,null,null,"(",{"$f":"確認申請書第三面!K63","v":0},null,null,null,null,"㎡",")(",{"$f":"確認申請書第三面!R63","v":0},null,null,null,null,"㎡",")(",{"$f":"確認申請書第三面!Y63","v":0},null,null,null,null,"㎡",")"]
[null,"【ホ.認定機械室等の部分】",null,null,null,null,null,null,null,"(",{"$f":"確認申請書第三面!K64","v":0},null,null,null,null,"㎡",")(",{"$f":"確認申請書第三面!R64","v":0},null,null,null,null,"㎡",")(",{"$f":"確認申請書第三面!Y64","v":0},null,null,null,null,"㎡",")"]
[null,"【ヘ.自動車車庫等の部分】",null,null,null,null,null,null,null,"(",{"$f":"確認申請書第三面!K65","v":0},null,null,null,null,"㎡",")(",{"$f":"確認申請書第三面!R65","v":0},null,null,null,null,"㎡",")(",{"$f":"確認申請書第三面!Y65","v":0},null,null,null,null,"㎡",")",null,null,{"$f":"Y57/5","v":0}]
[null,"【 ト.備蓄倉庫の部分】",null,null,null,null,null,null,null,"(",{"$f":"確認申請書第三面!K66","v":0},null,null,null,null,"㎡",")(",{"$f":"確認申請書第三面!R66","v":0},null,null,null,null,"㎡",")(",{"$f":"確認申請書第三面!Y66","v":0},null,null,null,null,"㎡",")"]
[null,"【チ.蓄電池の設置部分】",null,null,null,null,null,null,null,"(",{"$f":"確認申請書第三面!K67","v":0},null,null,null,null,"㎡",")(",{"$f":"確認申請書第三面!R67","v":0},null,null,null,null,"㎡",")(",{"$f":"確認申請書第三面!Y67","v":0},null,null,null,null,"㎡",")"]
[null,"【 リ.自家発電設備の設置部分】"]
[null,null,null,null,null,null,null,null,null,"(",{"$f":"確認申請書第三面!K69","v":0},null,null,null,null,"㎡",")(",{"$f":"確認申請書第三面!R69","v":0},null,null,null,null,"㎡",")(",{"$f":"確認申請書第三面!Y69","v":0},null,null,null,null,"㎡",")"]
[null,"【ヌ.貯水槽の設置部分】",null,null,null,null,null,null,null,"(",{"$f":"確認申請書第三面!K70","v":0},null,null,null,null,"㎡",")(",{"$f":"確認申請書第三面!R70","v":0},null,null,null,null,"㎡",")(",{"$f":"確認申請書第三面!Y70","v":0},null,null,null,null,"㎡",")"]
[null,"【ル.宅配ボックスの設置部分】 "]
[null,null,null,null,null,null,null,null,null,"(",{"$f":"確認申請書第三面!K72","v":0},null,null,null,null,"㎡",")(",{"$f":"確認申請書第三面!R72","v":0},null,null,null,null,"㎡",")(",{"$f":"確認申請書第三面!Y72","v":0},null,null,null,null,"㎡",")"]
[null,"【ヲ.その他の不算入部分】 ",null,null,null,null,null,null,null,"(",{"$f":"確認申請書第三面!K74","v":0},null,null,null,null,"㎡",")(",{"$f":"確認申請書第三面!R74","v":0},null,null,null,null,"㎡",")(",{"$f":"確認申請書第三面!Y74","v":0},null,null,null,null,"㎡",")"]
[null,"【ワ.住宅の部分】 ",null,null,null,null,null,null,null,"(",{"$f":"確認申請書第三面!K75","v":0},null,null,null,null,"㎡",")(",{"$f":"確認申請書第三面!R75","v":0},null,null,null,null,"㎡",")(",{"$f":"確認申請書第三面!Y75","v":0},null,null,null,null,"㎡",")"]
[null,"【カ.老人ホーム等の部分】"]
[null,null,null,null,null,null,null,null,null,"(",{"$f":"確認申請書第三面!K77","v":0},null,null,null,null,"㎡",")(",{"$f":"確認申請書第三面!R77","v":0},null,null,null,null,"㎡",")(",{"$f":"確認申請書第三面!Y77","v":0},null,null,null,null,"㎡",")"]
[null,"【ヨ.延べ面積】",null,null,null,null,null,null,null,{"$f":"確認申請書第三面!J78","v":0},null,null,null,"㎡"]
[null,"【タ.容積率】",null,null,null,null,null,null,null,null,{"$f":"確認申請書第三面!K79","v":""},null,null,"％"]
[]
[]
["【12.建築物の数】"]
[null,"【イ.申請に係る建築物の数】",null,null,null,null,null,null,null,null,null,null,null,{"$f":"確認申請書第三面!N83","v":"　"}]
[null,"【ロ.同一敷地内の他の建築物の数】",null,null,null,null,null,null,null,null,null,null,null,{"$f":"確認申請書第三面!N84","v":"　"}]
[]
[]
["【13.建築物の高さ等】",null,null,null,null,null,null,null,null,"(","申請に係る建築物",null,null,null,null,null,")(","他の建築物",null,null,null,null,null,")"]
[null,"【イ.最高の高さ】",null,null,null,null,null,null,null,"(",{"$f":"確認申請書第三面!K88","v":0},null,null,null,null,"m",")(",{"$f":"確認申請書第三面!R88","v":0},null,null,null,null,"m",")"]
[null,"【ロ.階数】",null,null,null,null,null,null,"地上","(",{"$f":"確認申請書第三面!K89","v":0},null,null,null,null,"階",")(",{"$f":"確認申請書第三面!R89","v":0},null,null,null,null,"階",")"]
[null,null,null,null,null,null,null,null,"地下","(",{"$f":"確認申請書第三面!K90","v":0},null,null,null,null,"階",")(",{"$f":"確認申請書第三面!R90","v":0},null,null,null,null,"階",")"]
[null,"【ハ.構造】",null,null,null,null,null,null,null,null,{"$f":"確認申請書第三面!K91","v":0},null,null,null,null,null,null,null,"一部",{"$f":"確認申請書第三面!T91","v":0},null,null,null,null,null,null,null,null,null,null,"造"]
[null,"【ニ.建築基準法第56条第７項の規定による特例の適用の有無】",null,null,null,null,null,null,null,null,null,null,null,null,null,null,null,null,null,null,null,{"$f":"確認申請書第三面!V92","v":"□"},"有",null,{"$f":"確認申請書第三面!Y92","v":"□"},"無"]
[null,"【ホ.適用があるときは、特例の区分】"]
[null,null,{"$f":"確認申請書第三面!C94","v":"□"},"道路高さ制限不適用",null,null,null,null,null,null,null,{"$f":"確認申請書第三面!L94","v":"□"},"隣地高さ制限不適用",null,null,null,null,null,null,null,{"$f":"確認申請書第三面!U94","v":"□"},"北側高さ制限不適用"]
[]
[]
["【14.許可・認定等】"]
[null,null,{"$f":"確認申請書第三面!C98","v":0}]
[null,null,{"$f":"確認申請書第三面!C99","v":0}]
[]
[]
["【15.工事着手予定年月日】",null,null,null,null,null,null,null,null,"令和",null,{"$f":"確認申請書第三面!L102","v":0},null,"年",{"$f":"確認申請書第三面!O102","v":0},null,"月",{"$f":"確認申請書第三面!R102","v":0},null,"日"]
[]
[]
["【16.工事完了予定年月日】",null,null,null,null,null,null,null,null,"令和",null,{"$f":"確認申請書第三面!L105","v":0},null,"年",{"$f":"確認申請書第三面!O105","v":0},null,"月",{"$f":"確認申請書第三面!R105","v":0},null,"日"]
[]
[]
["【17.特定工程工事終了予定年月日】",null,null,null,null,null,null,null,null,null,null,null,null,null,null,null,null,null,null,null,null,null,"（特定工程）"]
[null,null,"(第",{"$f":"確認申請書第三面!D109","v":0},"回)",null,"令和",null,{"$f":"確認申請書第三面!I109","v":0},null,"年",{"$f":"確認申請書第三面!L109","v":0},null,"月",{"$f":"確認申請書第三面!O109","v":0},null,"日(",{"$f":"確認申請書第三面!R109","v":""},null,null,null,null,null,null,null,null,null,null,null,null,")"]
[null,null,"(第",null,"回)",null,"令和",null,null,null,"年",null,null,"月",null,null,"日(",null,null,null,null,null,null,null,null,null,null,null,null,null,")"]
[null,null,"(第",null,"回)",null,"令和",null,null,null,"年",null,null,"月",null,null,"日(",null,null,null,null,null,null,null,null,null,null,null,null,null,")"]
[]
[]
["【18.建築基準法第12条第1項の規定による調査の要否】"]
[null,"□","要",null,"■","否"]
[]
[]
["【19.建築基準法第12条第3項の規定による検査を要する防火設備の有無】"]
[null,"□","有",null,"■","無"]
[]
["【20.その他必要な事項】"]
[null,null,{"$f":"確認申請書第三面!C120","v":0}]
[null,null,{"$f":"確認申請書第三面!C121","v":0}]
[null,null,{"$f":"確認申請書第三面!C115","v":0}]

{"sheet":"建築計画概要書第三面","index":18,"n_rows":16,"n_cols":2,"rows_kept":16,"cut":false,"hidden":false,"merged":[[4,1,7,15],[11,1,14,15],[15,1,15,15],[0,0,0,15]]}
["建築計画概要書（第三面）"]
[]
[]
["付近見取図"]
[null,"方位、道路及び目標となる地物を明示してください。"]
[]
[]
[]
[]
[]
["配置図"]
[null,"縮尺、方位、敷地境界線、敷地内における建築物の位置\n申請に係る建築物と他の建築物との別並びに敷地の接する\n道路の位置及び幅員を明示してください。"]
[]
[]
[]
[null,"縮尺：　　　                   "]

{"sheet":"中間検査申請書第一面","index":19,"n_rows":41,"n_cols":27,"rows_kept":41,"cut":false,"hidden":false,"merged":[[11,19,11,20],[13,17,13,25],[15,17,15,25],[20,17,20,25],[20,12,20,16],[14,12,14,16],[19,17,19,25],[14,17,14,25],[3,0,3,27],[2,0,2,27],[5,0,5,27],[6,0,6,27],[7,0,7,27],[26,1,26,6],[27,1,27,6],[28,1,28,6],[29,1,29,6],[26,11,26,16],[36,0,36,5],[39,0,39,5],[40,0,40,5],[36,6,36,27],[37,22,37,27],[37,6,37,10],[37,11,37,16],[37,17,37,21],[38,22,38,27],[39,22,39,27],[40,22,40,27],[38,0,38,5],[37,0,37,5]]}
["第二十六号様式(第四条の八、第四条の十一の二関係)（Ａ４）"]
[]
["中 間 検 査 申 請 書"]
["(第一面)"]
[]
["　建築基準法第７条の３第１項又は第７条の４第１項（これらの規定を同法第８７条の４又は第８８条第１項におい"]
["て準用する場合を含む。）の規定により、検査を申請します。この申請書及び添付図書に記載の事項は、事実"]
["に相違ありません。          　　　　　　　　　　　　　　　　　　"]
[]
[]
["株式会社香川県建築住宅センタ－   様"]
[null,null,null,null,null,null,null,null,null,null,null,null,null,null,null,null,null,null,null,{"$f":"確認申請書第一面!Q17","v":"令和"},null,null,"年",null,"月",null,"日"]
[]
[]
[null,null,null,null,null,null,null,null,null,null,null,null,"申請者氏名"]
[null,null,null,null,null,null,null,null,null,null,null,null,null,null,null,null,null,null,null,null,null,null,null,null,null,null,{"$f":"IF(R16=0,\"\",\"印\")","v":""}]
[]
[]
[" 第四面に記載の事項は、事実に相違ありません。"]
[]
[null,null,null,null,null,null,null,null,null,null,null,null,"工事監理者氏名",null,null,null,null,{"$f":"中間検査申請書第二面!D47","v":0}]
[]
[]
[]
["【検査を申請する建築物等】"]
[null,"■","建築物"]
[]
[]
[]
[]
[]
[]
[]
[]
[]
[]
["※手数料欄"]
["※受付欄",null,null,null,null,null,"　※　審　査　欄　　",null,null,null,null,"※　検　査　欄",null,null,null,null,null,"※　決　裁　欄",null,null,null,null,"※中間検査合格証欄"]
["令和　　年　　月　　日",null,null,null,null,null,null,null,null,null,null,null,null,null,null,null,null,null,null,null,null,null,"令和　　年　　月　　日"]
["第　　　　　　　　　　　号",null,null,null,null,null,null,null,null,null,null,null,null,null,null,null,null,null,null,null,null,null,"第　　　　　　　　　　　号"]
["係員氏名",null,null,null,null,null,null,null,null,null,null,null,null,null,null,null,null,null,null,null,null,null,"係員氏名"]

{"sheet":"中間検査申請書第二面","index":20,"n_rows":95,"n_cols":16,"rows_kept":95,"cut":false,"hidden":false,"merged":[[39,3,39,6],[8,3,8,14],[0,0,0,15],[1,0,1,15],[5,3,5,14],[6,3,6,14],[7,3,7,5],[24,3,24,14],[9,3,9,7],[13,8,13,10],[13,13,13,14],[14,3,14,14],[15,13,15,14],[16,3,16,14],[17,3,17,5],[18,3,18,14],[19,3,19,7],[23,8,23,10],[23,13,23,14],[37,3,37,5],[25,13,25,14],[26,3,26,14],[27,3,27,5],[28,3,28,14],[30,3,30,14],[33,8,33,10],[33,13,33,14],[34,3,34,14],[35,13,35,14],[36,3,36,14],[29,3,29,6],[51,3,51,7],[45,8,45,10],[45,13,45,14],[76,2,76,7],[38,3,38,14],[40,3,40,14],[46,3,46,14],[47,13,47,14],[48,3,48,14],[49,3,49,5],[50,3,50,14],[59,3,59,5],[60,3,60,14],[61,3,61,7],[62,3,62,14],[52,3,52,14],[55,8,55,10],[55,13,55,14],[56,3,56,14],[57,13,57,14],[58,3,58,14],[91,3,91,7],[94,4,94,14],[86,3,86,14],[87,2,87,5],[87,11,87,13],[88,3,88,14],[89,3,89,5],[90,3,90,14],[80,2,80,6],[81,2,81,6],[82,2,82,14],[72,2,72,6],[73,2,73,14],[77,2,77,7],[78,2,78,4],[79,2,79,14],[67,2,67,7],[68,2,68,7],[69,2,69,4],[70,2,70,14],[71,2,71,6]]}
["（第二面）"]
["建築主、設置者又は築造主等の概要"]
[]
[]
["【1.建築主、設置者又は築造主】"]
[null,"【イ.氏名のフリガナ】"]
[null,"【ロ.氏名】",null,{"$f":"CONCATENATE(中間検査申請書第一面!R14,\" \",中間検査申請書第一面!R15)","v":" "}]
[null,"【ハ.郵便番号】"]
[null,"【ニ.住所】"]
[null,"【ホ.電話番号】"]
[]
[]
["【2.代理者】"]
[null,"【イ.資格】","（",null,"）","建築士",null,"(",null,null,null,")     登録第",null,null,null,"号"]
[null,"【ロ.氏名】"]
[null,"【ハ.建築士事務所名】","（",null,"）","建築士事務所",null,null,"（",null,"）","知事登録第",null,null,null,"号"]
[]
[null,"【ニ.郵便番号】"]
[null,"【ホ.所在地】"]
[null,"【ヘ.電話番号】"]
[]
["【3.設計者】"]
["（代表となる設計者）"]
[null,"【イ.資格】","（",{"$f":"確認申請書第二面!D24","v":0},"）","建築士",null,"(",{"$f":"確認申請書第二面!I24","v":0},null,null,")     登録第",null,{"$f":"確認申請書第二面!N24","v":0},null,"号"]
[null,"【ロ.氏名】",null,{"$f":"確認申請書第二面!D25","v":0}]
[null,"【ハ.建築士事務所名】","（",{"$f":"確認申請書第二面!D26","v":0},"）","建築士事務所",null,null,"（",{"$f":"確認申請書第二面!J26","v":0},"）","知事登録第",null,{"$f":"確認申請書第二面!N26","v":0},null,"号"]
[null,null,null,{"$f":"確認申請書第二面!D27","v":0}]
[null,"【ニ.郵便番号】",null,{"$f":"IF(確認申請書第二面!D28=\"\",\"\",確認申請書第二面!D28)","v":""}]
[null,"【ホ.所在地】",null,{"$f":"確認申請書第二面!D29","v":0}]
[null,"【ヘ.電話番号】",null,{"$f":"確認申請書第二面!D30","v":0}]
[null,"【ト.作成した設計図書】",null,{"$f":"確認申請書第二面!D31","v":0}]
[]
["（その他の設計者）"]
[null,"【イ.資格】","（",{"$f":"確認申請書第二面!D34","v":0},"）","建築士",null,"(",{"$f":"確認申請書第二面!I34","v":0},null,null,")     登録第",null,{"$f":"確認申請書第二面!N34","v":0},null,"号"]
[null,"【ロ.氏名】",null,{"$f":"確認申請書第二面!D35","v":0}]
[null,"【ハ.建築士事務所名】","（",{"$f":"確認申請書第二面!D36","v":0},"）","建築士事務所",null,null,"（",{"$f":"確認申請書第二面!J36","v":0},"）","知事登録第",null,{"$f":"確認申請書第二面!N36","v":0},null,"号"]
[null,null,null,{"$f":"確認申請書第二面!D37","v":0}]
[null,"【ニ.郵便番号】",null,{"$f":"IF(確認申請書第二面!D38=\"\",\"\",確認申請書第二面!D38)","v":""}]
[null,"【ホ.所在地】",null,{"$f":"確認申請書第二面!D39","v":0}]
[null,"【ヘ.電話番号】",null,{"$f":"確認申請書第二面!D40","v":0}]
[null,"【ト.作成した設計図書】",null,{"$f":"確認申請書第二面!D41","v":0}]
[]
[]
["【4.工事監理者】"]
["（代表となる工事監理者）"]
[null,"【イ.資格】","（",null,"）","建築士",null,"(",null,null,null,")     登録第",null,null,null,"号"]
[null,"【ロ.氏名】"]
[null,"【ハ.建築士事務所名】","（",null,"）","建築士事務所",null,null,"（",null,"）","知事登録第",null,null,null,"号"]
[]
[null,"【ニ.郵便番号】"]
[null,"【ホ.所在地】"]
[null,"【ヘ.電話番号】"]
[null,"【ト.工事と照合した設計図書】"]
[]
["（その他の工事監理者）"]
[null,"【イ.資格】","（",null,"）","建築士",null,"(",null,null,null,")     登録第",null,null,null,"号"]
[null,"【ロ.氏名】"]
[null,"【ハ.建築士事務所名】","（",null,"）","建築士事務所",null,null,"（",null,"）","知事登録第",null,null,null,"号"]
[]
[null,"【ニ.郵便番号】"]
[null,"【ホ.所在地】"]
[null,"【ヘ.電話番号】"]
[null,"【ト.工事と照合した設計図書】"]
[]
[]
["【5.建築設備の工事監理に関し意見を聴いた者】"]
["（代表となる建築設備の工事監理に関し意見を聴いた者）"]
[null,"【イ.氏名】"]
[null,"【ロ.勤務先】"]
[null,"【ハ.郵便番号】"]
[null,"【ニ.所在地】"]
[null,"【ホ.電話番号】"]
[null,"【ヘ.登録番号】"]
[null,"【ト.意見を聴いた設計図書】"]
[]
["（その他の建築設備の工事監理に関し意見を聴いた者）"]
[null,"【イ.氏名】"]
[null,"【ロ.勤務先】"]
[null,"【ハ.郵便番号】"]
[null,"【ニ.所在地】"]
[null,"【ホ.電話番号】"]
[null,"【ヘ.登録番号】"]
[null,"【ト.意見を聴いた設計図書】"]
[]
[]
["【6.工事施工者】"]
[null,"【イ.氏名】",null,{"$f":"確認申請書第二面!D162","v":0}]
[null,"【ロ.営業所名】","建設業の許可",null,null,null,"（",{"$f":"確認申請書第二面!H163","v":0},"）",null,"第",{"$f":"確認申請書第二面!L163","v":0},null,null,"号"]
[null,null,null,{"$f":"確認申請書第二面!D164","v":0}]
[null,"【ハ.郵便番号】",null,{"$f":"確認申請書第二面!D165","v":0}]
[null,"【ニ.所在地】",null,{"$f":"確認申請書第二面!D166","v":0}]
[null,"【ホ.電話番号】",null,{"$f":"確認申請書第二面!D167","v":0}]
[]
[]
["【７.備考】",null,null,"物件名：",{"$f":"確認申請書第二面!E184","v":0}]

{"sheet":"中間検査申請書第二面別紙","index":21,"n_rows":10,"n_cols":4,"rows_kept":10,"cut":false,"hidden":false,"merged":[[8,3,8,14],[9,3,9,7],[0,0,0,15],[1,0,1,15],[5,3,5,14],[6,3,6,14],[7,3,7,5]]}
["（第二面）"]
["別紙　建築主追加様式"]
[]
[]
["【1.追加の建築主】"]
[null,"【イ.氏名のフリガナ】"]
[null,"【ロ.氏名】",null,{"$f":"中間検査申請書第一面!R16","v":0}]
[null,"【ハ.郵便番号】"]
[null,"【ニ.住所】",null,{"$f":"確認申請書第二面!D9","v":0}]
[null,"【ホ.電話番号】",null,{"$f":"確認申請書第二面!D10","v":0}]

{"sheet":"中間検査申請書第三面","index":22,"n_rows":59,"n_cols":24,"rows_kept":59,"cut":false,"hidden":false,"merged":[[34,12,34,13],[0,0,0,26],[17,11,17,16],[23,19,23,25],[33,10,33,25],[5,6,5,25],[6,6,6,25],[10,19,10,20],[14,7,14,25],[20,10,20,11],[26,10,26,11],[29,10,29,11],[35,11,35,14],[55,10,55,25],[59,10,59,25],[60,10,60,25],[52,10,52,25],[53,10,53,25],[54,10,54,25]]}
["（第三面）"]
["申請する工事の概要"]
[]
[]
["【1.建築場所、設置場所又は築造場所】"]
[null,"【ｲ.地名地番】",null,null,null,null,{"$f":"確認申請書第三面!F5","v":0}]
[null,"【ﾛ.住居表示】",null,null,null,null,{"$f":"確認申請書第三面!F8","v":0}]
[]
[]
["【2.工事種別】"]
[null,"【ｲ.建築基準法施行令第１０条各号に掲げる建築物の区分】",null,null,null,null,null,null,null,null,null,null,null,null,null,null,null,null,"第",{"$f":"確認申請書第四面!S70","v":0},null,"号"]
[null,"【ﾛ.工事種別】",null,null,null,null,null,{"$f":"確認申請書第三面!B46","v":"□"},"新築",null,{"$f":"確認申請書第三面!E46","v":"□"},"増築",null,{"$f":"確認申請書第三面!H46","v":"□"},"改築",null,{"$f":"確認申請書第三面!K46","v":"□"},"移転"]
[null,null,null,null,null,null,null,"□","大規模の修繕",null,null,null,"□","大規模の模様替",null,null,null,null,"□","建築設備の設置"]
[null,"【ﾊ.建築基準法第６８条の２０第２項の検査の特例に係る認証番号】"]
[]
[]
[]
["【3.確認済証番号】",null,null,null,null,null,null,null,null,null,"第",null,null,null,null,null,null,"号"]
[]
[]
["【4.確認済証交付年月日】",null,null,null,null,null,null,null,null,null,"令和",null,null,"年",null,"月",null,"日"]
[]
[]
["【5.確認済証交付者】",null,null,null,null,null,null,null,null,null,"株式会社香川県建築住宅センター"]
[]
[]
["【6.工事着手年月日】",null,null,null,null,null,null,null,null,null,"令和",null,null,"年",null,"月",null,"日"]
[]
[]
["【7.工事完了予定年月日】",null,null,null,null,null,null,null,null,null,"令和",null,null,"年",null,"月",null,"日"]
[]
[]
["【8.特定工程】"]
[null,"【ｲ.特定工程】",null,null,null,null,null,null,null,null,{"$f":"確認申請書第三面!R109","v":""}]
[null,"【ﾛ.特定工程工事終了（予定）年月日】",null,null,null,null,null,null,null,null,null,null,"令和",null,null,"年",null,"月",null,"日"]
[null,"【ﾊ.検査対象床面積】",null,null,null,null,null,null,null,null,null,{"$f":"確認申請書第四面!K84","v":0},null,null,null,"㎡"]
[]
[]
["【9.今回申請以前の中間検査】",null,null,null,null,null,null,null,null,null,"(第",null,null,null,null,"回","）","(第",null,null,null,null,"回","）"]
[null,"【ｲ.特定工程】",null,null,null,null,null,null,null,null,"(",null,null,null,null,null,"）","(",null,null,null,null,null,"）"]
[null,"【ﾛ.中間検査合格証交付者】",null,null,null,null,null,null,null,null,"(",null,null,null,null,null,"）","(",null,null,null,null,null,"）"]
[null,"【ﾊ.中間検査合格証番号】",null,null,null,null,null,null,null,null,"(",null,null,null,null,null,"）","(",null,null,null,null,null,"）"]
[null,"【ﾆ.交付年月日】",null,null,null,null,null,null,null,null,"(令和　 　年　　月　　日",null,null,null,null,null,"）","(令和  　年　　月　　日",null,null,null,null,null,"）"]
[]
[]
["【10.今回申請以降の中間検査】",null,null,null,null,null,null,null,null,null,"(第",null,null,null,null,"回","）","(第",null,null,null,null,"回","）"]
[null,"【ｲ.特定工程】",null,null,null,null,null,null,null,null,"(",null,null,null,null,null,"）","(",null,null,null,null,null,"）"]
[null,"【ﾛ.特定工程工事終了予定",null,null,null,null,null,null,null,null,"(令和　 　年　　月　　日",null,null,null,null,null,"）","(令和　 　年　　月　　日",null,null,null,null,null,"）"]
[null,null,"年月日】"]
[]
[]
["【11.確認以降の軽微な変更の概要】"]
[null,"【ｲ.変更された設計図書の種類】"]
[null,"【ﾛ.変更の概要】"]
[]
[]
[]
[]
["【12.備考】"]

{"sheet":"中間検査申請書第四面","index":23,"n_rows":51,"n_cols":7,"rows_kept":51,"cut":false,"hidden":false,"merged":[[27,0,30,0],[40,0,43,0],[0,0,0,6],[35,0,39,0],[50,0,52,0],[44,0,49,0],[3,0,6,0],[7,0,12,0],[13,0,18,0],[19,0,21,0],[22,0,26,0],[31,0,34,0]]}
["（第四面）"]
["工事監理の状況"]
[null,"確認を行った部位・材料の種類等","照合内容","照合を行った設計図書","設計図書の内容について設計者に確認した事項","照合方法","照合結果\n（不適の場合には建築主に対して行った報告の内容）"]
["敷地の形状、高さ、衛生及び安全"]
[]
[]
[]
["主要構造部及び主要構造部以外の構造耐力上主要な部分に用いる材料（接合材料を含む）の種類、品質、形状及び寸法"]
[]
[]
[]
[]
[]
["主要構造部及び主要構造部以外の構造耐力上主要な部分に用いる材料の接合状況、接合部分の形状等"]
[]
[]
[]
[]
[]
["建築物の各部分の位置、形状及び大きさ"]
[]
[]
["構造耐力上主要な部分の防錆、防腐及び防蟻措置及び状況"]
[]
[]
[]
[]
["特定天井に用いる材料の種類並びに当該特定天井の構造及び施工状況"]
[]
[]
[]
["居室の内装の仕上げに用いる建築材料の種別及び当該建築材料を用いる部分の面積"]
[]
[]
[]
["天井及び壁の室内に面する部分に係る仕上げの材料の種別及び厚さ"]
[]
[]
[]
[]
["開口部に設ける建具の種類及び大きさ"]
[]
[]
[]
["建築設備に用いる材料の種類及びその照合した内容並びに当該建築設備の構造及び施工状況（区画貫通部の処理状況を含む。）"]
[]
[]
[]
[]
[]
["備考"]

{"sheet":"完了検査申請書第一面","index":24,"n_rows":41,"n_cols":27,"rows_kept":41,"cut":false,"hidden":false,"merged":[[38,22,38,27],[39,0,39,5],[39,22,39,27],[40,0,40,5],[40,22,40,27],[38,0,38,5],[36,0,36,5],[36,6,36,27],[37,0,37,5],[37,22,37,27],[37,11,37,16],[37,17,37,21],[37,6,37,10],[14,12,14,16],[14,17,14,25],[15,17,15,25],[19,17,19,25],[20,12,20,16],[20,17,20,25],[13,17,13,25],[2,0,2,27],[3,0,3,27],[5,0,5,27],[6,0,6,27],[7,0,7,27],[11,19,11,20]]}
["第十九号様式(第四条、第四条の四の二関係）（Ａ４）"]
[]
["完 了 検 査 申 請 書"]
["(第一面)"]
[]
["　建築基準法第７条第１項又は第７条の２第１項（これらの規定を同法第８７条の４又は第８８条第１項若しくは"]
["第２項において準用する場合を含む。）の規定により、検査を申請します。この申請書及び添付図書に記載の"]
["事項は、事実に相違ありません。　　　　　　"]
[]
[]
["株式会社香川県建築住宅センタ－   様"]
[null,null,null,null,null,null,null,null,null,null,null,null,null,null,null,null,null,null,null,{"$f":"確認申請書第一面!Q17","v":"令和"},null,null,"年",null,"月",null,"日"]
[]
[]
[null,null,null,null,null,null,null,null,null,null,null,null,"申請者氏名"]
[null,null,null,null,null,null,null,null,null,null,null,null,null,null,null,null,null,null,null,null,null,null,null,null,null,null,{"$f":"IF(R16=0,\"\",\"印\")","v":""}]
[]
[]
[" 第四面に記載の事項は、事実に相違ありません。"]
[]
[null,null,null,null,null,null,null,null,null,null,null,null,"工事監理者氏名",null,null,null,null,{"$f":"確認申請書第二面!D124","v":0}]
[]
[]
[]
["【検査を申請する建築物等】"]
[null,"■","建築物",null,null,null,null,null,"□","建築設備（昇降機）"]
[]
[]
[]
[]
[]
[]
[]
[]
[]
[]
["※手数料欄"]
["※受付欄",null,null,null,null,null,"　※　審　査　欄　　",null,null,null,null,"※　検　査　欄",null,null,null,null,null,"※　決　裁　欄",null,null,null,null,"※検査済証欄"]
["令和　　年　　月　　日",null,null,null,null,null,null,null,null,null,null,null,null,null,null,null,null,null,null,null,null,null,"令和　　年　　月　　日"]
["第　　　　　　　　　　　号",null,null,null,null,null,null,null,null,null,null,null,null,null,null,null,null,null,null,null,null,null,"第　　　　　　　　　　　号"]
["係員氏名",null,null,null,null,null,null,null,null,null,null,null,null,null,null,null,null,null,null,null,null,null,"係員氏名"]

{"sheet":"完了検査申請書第二面","index":25,"n_rows":97,"n_cols":16,"rows_kept":97,"cut":false,"hidden":false,"merged":[[130,3,130,5],[131,3,131,14],[132,3,132,7],[96,4,96,14],[126,8,126,10],[126,13,126,14],[127,3,127,14],[128,13,128,14],[129,3,129,14],[93,3,93,7],[80,2,80,4],[81,2,81,14],[82,2,82,6],[83,2,83,6],[84,2,84,14],[88,3,88,14],[89,2,89,5],[89,11,89,13],[90,3,90,14],[91,3,91,5],[92,3,92,14],[79,2,79,7],[62,3,62,14],[63,3,63,7],[64,3,64,14],[69,2,69,7],[70,2,70,7],[71,2,71,4],[72,2,72,14],[73,2,73,6],[74,2,74,6],[75,2,75,14],[78,2,78,7],[61,3,61,5],[49,13,49,14],[50,3,50,14],[51,3,51,5],[52,3,52,14],[53,3,53,7],[54,3,54,14],[57,8,57,10],[57,13,57,14],[58,3,58,14],[59,13,59,14],[60,3,60,14],[48,3,48,14],[33,8,33,10],[33,13,33,14],[34,3,34,14],[35,13,35,14],[36,3,36,14],[37,3,37,5],[38,3,38,14],[39,3,39,7],[40,3,40,14],[47,8,47,10],[47,13,47,14],[30,3,30,14],[17,3,17,5],[18,3,18,14],[19,3,19,7],[23,8,23,10],[23,13,23,14],[24,3,24,14],[25,13,25,14],[26,3,26,14],[27,3,27,5],[28,3,28,14],[29,3,29,7],[16,3,16,14],[0,0,0,15],[1,0,1,15],[5,3,5,14],[6,3,6,14],[7,3,7,5],[8,3,8,14],[9,3,9,7],[13,8,13,10],[13,13,13,14],[14,3,14,14],[15,13,15,14]]}
["（第二面）"]
["建築主、設置者又は築造主等の概要"]
[]
[]
["【1.建築主、設置者又は築造主】"]
[null,"【イ.氏名のフリガナ】"]
[null,"【ロ.氏名】",null,{"$f":"CONCATENATE(完了検査申請書第一面!R14,\" \",完了検査申請書第一面!R15)","v":" "}]
[null,"【ハ.郵便番号】"]
[null,"【ニ.住所】"]
[null,"【ホ.電話番号】"]
[]
[]
["【2.代理者】"]
[null,"【イ.資格】","（",null,"）","建築士",null,"(",null,null,null,")     登録第",null,null,null,"号"]
[null,"【ロ.氏名】"]
[null,"【ハ.建築士事務所名】","（",null,"）","建築士事務所",null,null,"（",null,"）","知事登録第",null,null,null,"号"]
[]
[null,"【ニ.郵便番号】"]
[null,"【ホ.所在地】"]
[null,"【ヘ.電話番号】"]
[]
["【3.設計者】"]
["（代表となる設計者）"]
[null,"【イ.資格】","（",{"$f":"確認申請書第二面!D24","v":0},"）","建築士",null,"(",{"$f":"確認申請書第二面!I24","v":0},null,null,")     登録第",null,{"$f":"確認申請書第二面!N24","v":0},null,"号"]
[null,"【ロ.氏名】",null,{"$f":"確認申請書第二面!D25","v":0}]
[null,"【ハ.建築士事務所名】","（",{"$f":"確認申請書第二面!D26","v":0},"）","建築士事務所",null,null,"（",{"$f":"確認申請書第二面!J26","v":0},"）","知事登録第",null,{"$f":"確認申請書第二面!N26","v":0},null,"号"]
[null,null,null,{"$f":"確認申請書第二面!D27","v":0}]
[null,"【ニ.郵便番号】",null,{"$f":"IF(確認申請書第二面!D28=\"\",\"\",確認申請書第二面!D28)","v":""}]
[null,"【ホ.所在地】",null,{"$f":"確認申請書第二面!D29","v":0}]
[null,"【ヘ.電話番号】",null,{"$f":"確認申請書第二面!D30","v":0}]
[null,"【ト.作成した設計図書】",null,{"$f":"確認申請書第二面!D31","v":0}]
[]
["（その他の設計者）"]
[null,"【イ.資格】","（",{"$f":"確認申請書第二面!D34","v":0},"）","建築士",null,"(",{"$f":"確認申請書第二面!I34","v":0},null,null,")     登録第",null,{"$f":"確認申請書第二面!N34","v":0},null,"号"]
[null,"【ロ.氏名】",null,{"$f":"確認申請書第二面!D35","v":0}]
[null,"【ハ.建築士事務所名】","（",{"$f":"確認申請書第二面!D36","v":0},"）","建築士事務所",null,null,"（",{"$f":"確認申請書第二面!J36","v":0},"）","知事登録第",null,{"$f":"確認申請書第二面!N36","v":0},null,"号"]
[null,null,null,{"$f":"確認申請書第二面!D37","v":0}]
[null,"【ニ.郵便番号】",null,{"$f":"IF(確認申請書第二面!D38=\"\",\"\",確認申請書第二面!D38)","v":""}]
[null,"【ホ.所在地】",null,{"$f":"確認申請書第二面!D39","v":0}]
[null,"【ヘ.電話番号】",null,{"$f":"確認申請書第二面!D40","v":0}]
[null,"【ト.作成した設計図書】",null,{"$f":"確認申請書第二面!D41","v":0}]
[]
[]
[]
[]
["【4.工事監理者】"]
["（代表となる工事監理者）"]
[null,"【イ.資格】","（",null,"）","建築士",null,"(",null,null,null,")     登録第",null,null,null,"号"]
[null,"【ロ.氏名】",null,{"$f":"確認申請書第二面!D124","v":0}]
[null,"【ハ.建築士事務所名】","（",null,"）","建築士事務所",null,null,"（",null,"）","知事登録第",null,null,null,"号"]
[null,null,null,{"$f":"確認申請書第二面!D126","v":0}]
[null,"【ニ.郵便番号】",null,{"$f":"確認申請書第二面!D127","v":0}]
[null,"【ホ.所在地】",null,{"$f":"確認申請書第二面!D128","v":0}]
[null,"【ヘ.電話番号】",null,{"$f":"確認申請書第二面!D129","v":0}]
[null,"【ト.工事と照合した設計図書】",null,{"$f":"確認申請書第二面!D130","v":0}]
[]
["（その他の工事監理者）"]
[null,"【イ.資格】","（",null,"）","建築士",null,"(",null,null,null,")     登録第",null,null,null,"号"]
[null,"【ロ.氏名】",null,{"$f":"確認申請書第二面!D134","v":0}]
[null,"【ハ.建築士事務所名】","（",null,"）","建築士事務所",null,null,"（",null,"）","知事登録第",null,null,null,"号"]
[null,null,null,{"$f":"確認申請書第二面!D136","v":0}]
[null,"【ニ.郵便番号】",null,{"$f":"確認申請書第二面!D137","v":0}]
[null,"【ホ.所在地】",null,{"$f":"確認申請書第二面!D138","v":0}]
[null,"【ヘ.電話番号】",null,{"$f":"確認申請書第二面!D139","v":0}]
[null,"【ト.工事と照合した設計図書】",null,{"$f":"確認申請書第二面!D140","v":0}]
[]
[]
["【5.建築設備の工事監理に関し意見を聴いた者】"]
["（代表となる建築設備の工事監理に関し意見を聴いた者）"]
[null,"【イ.氏名】"]
[null,"【ロ.勤務先】"]
[null,"【ハ.郵便番号】"]
[null,"【ニ.所在地】"]
[null,"【ホ.電話番号】"]
[null,"【ヘ.登録番号】"]
[null,"【ト.意見を聴いた設計図書】"]
[]
["（その他の建築設備の工事監理に関し意見を聴いた者）"]
[null,"【イ.氏名】"]
[null,"【ロ.勤務先】"]
[null,"【ハ.郵便番号】"]
[null,"【ニ.所在地】"]
[null,"【ホ.電話番号】"]
[null,"【ヘ.登録番号】"]
[null,"【ト.意見を聴いた設計図書】"]
[]
[]
["【6.工事施工者】"]
[null,"【イ.氏名】",null,{"$f":"確認申請書第二面!D162","v":0}]
[null,"【ロ.営業所名】","建設業の許可",null,null,null,"（",{"$f":"確認申請書第二面!H163","v":0},"）",null,"第",{"$f":"確認申請書第二面!L163","v":0},null,null,"号"]
[null,null,null,{"$f":"確認申請書第二面!D164","v":0}]
[null,"【ハ.郵便番号】",null,{"$f":"確認申請書第二面!D165","v":0}]
[null,"【ニ.所在地】",null,{"$f":"確認申請書第二面!D166","v":0}]
[null,"【ホ.電話番号】",null,{"$f":"確認申請書第二面!D167","v":0}]
[]
[]
["【７.備考】",null,null,"物件名：",{"$f":"確認申請書第二面!E184","v":0}]

{"sheet":"完了検査申請書第二面別紙","index":26,"n_rows":10,"n_cols":4,"rows_kept":10,"cut":false,"hidden":false,"merged":[[8,3,8,14],[9,3,9,7],[0,0,0,15],[1,0,1,15],[5,3,5,14],[6,3,6,14],[7,3,7,5]]}
["（第二面）"]
["別紙　建築主追加様式"]
[]
[]
["【1.追加の建築主】"]
[null,"【イ.氏名のフリガナ】"]
[null,"【ロ.氏名】",null,{"$f":"完了検査申請書第一面!R16","v":0}]
[null,"【ハ.郵便番号】"]
[null,"【ニ.住所】",null,{"$f":"確認申請書第二面!D9","v":0}]
[null,"【ホ.電話番号】",null,{"$f":"確認申請書第二面!D10","v":0}]

{"sheet":"完了検査申請書第三面","index":27,"n_rows":50,"n_cols":27,"rows_kept":50,"cut":false,"hidden":false,"merged":[[46,10,46,25],[50,10,50,25],[51,10,51,25],[32,12,32,16],[36,11,36,18],[37,11,37,18],[35,11,35,17],[39,10,39,11],[23,19,23,25],[43,10,43,25],[44,10,44,25],[45,10,45,25],[0,0,0,26],[5,6,5,25],[6,6,6,25],[10,19,10,20],[14,7,14,25],[17,11,17,16],[38,11,38,17],[20,10,20,11],[26,10,26,11],[29,10,29,11]]}
["（第三面）"]
["申請する工事の概要"]
[]
[]
["【1.建築場所、設置場所又は築造場所】"]
[null,"【ｲ.地名地番】",null,null,null,null,{"$f":"確認申請書第三面!F5","v":0}]
[null,"【ﾛ.住居表示】",null,null,null,null,{"$f":"確認申請書第三面!F8","v":0}]
[]
[]
["【2.工事種別】"]
[null,"【ｲ.建築基準法施行令第１０条各号に掲げる建築物の区分】",null,null,null,null,null,null,null,null,null,null,null,null,null,null,null,null,"第",{"$f":"確認申請書第四面!S70","v":0},null,"号"]
[null,"【ﾛ.工事種別】",null,null,null,null,null,{"$f":"確認申請書第三面!B46","v":"□"},"新築",null,{"$f":"確認申請書第三面!E46","v":"□"},"増築",null,{"$f":"確認申請書第三面!H46","v":"□"},"改築",null,{"$f":"確認申請書第三面!K46","v":"□"},"移転"]
[null,null,null,null,null,null,null,"□","大規模の修繕",null,null,null,"□","大規模の模様替",null,null,null,null,"□","建築設備の設置"]
[null,"【ﾊ.建築基準法第６８条の２０第２項の検査の特例に係る認証番号】"]
[]
[]
[]
["【3.確認済証番号】",null,null,null,null,null,null,null,null,null,"第",null,null,null,null,null,null,"号"]
[]
[]
["【4.確認済証交付年月日】",null,null,null,null,null,null,null,null,null,"令和",null,null,"年",null,"月",null,"日"]
[]
[]
["【5.確認済証交付者】",null,null,null,null,null,null,null,null,null,"株式会社香川県建築住宅センター"]
[]
[]
["【6.工事着手年月日】",null,null,null,null,null,null,null,null,null,"令和",null,{"$f":"中間検査申請書第三面!M27","v":0},"年",{"$f":"中間検査申請書第三面!O27","v":0},"月",{"$f":"中間検査申請書第三面!Q27","v":0},"日"]
[]
[]
["【7.工事完了（予定）年月日】",null,null,null,null,null,null,null,null,null,"令和",null,null,"年",null,"月",null,"日"]
[]
[]
["【8.検査対象床面積】",null,null,null,null,null,null,null,null,null,null,null,{"$f":"確認申請書第三面!K57","v":0},null,null,null,null,"㎡"]
[]
[]
["【9.検査過程】",null,null,null,null,null,null,null,null,"(","第",null,null,null,null,null,null,null,"回","）","(第",null,null,null,null,"回","）"]
[null,"【ｲ.特定工程】",null,null,null,null,null,null,null,"(",null,{"$f":"確認申請書第三面!R109","v":""},null,null,null,null,null,null,null,"）","(",null,null,null,null,null,"）"]
[null,"【ﾛ.中間検査合格証交付者】",null,null,null,null,null,null,null,"(",null,null,null,null,null,null,null,null,null,"）","(",null,null,null,null,null,"）"]
[null,"【ﾊ.中間検査合格証番号】",null,null,null,null,null,null,null,"(","第",null,null,null,null,null,null,null,"号","）","(",null,null,null,null,null,"）"]
[null,"【ﾆ.交付年月日】",null,null,null,null,null,null,null,"(","令和",null,null,"年",null,"月",null,"日",null,"）","(令和  　年　　月　　日",null,null,null,null,null,"）"]
[]
[]
["【10.確認以降の軽微な変更の概要】"]
[null,"【ｲ.変更された設計図書の種類】"]
[null,"【ﾛ.変更の概要】"]
[]
[]
[]
[]
["【11.備考】"]

{"sheet":"完了検査申請書第四面","index":28,"n_rows":51,"n_cols":7,"rows_kept":51,"cut":false,"hidden":false,"merged":[[22,0,26,0],[27,0,30,0],[35,0,39,0],[44,0,49,0],[50,0,52,0],[31,0,34,0],[40,0,43,0],[0,0,0,6],[3,0,6,0],[7,0,12,0],[13,0,18,0],[19,0,21,0]]}
["（第四面）"]
["工事監理の状況"]
[null,"確認を行った部位・材料の種類等","照合内容","照合を行った設計図書","設計図書の内容について設計者に確認した事項","照合方法","照合結果\n（不適の場合には建築主に対して行った報告の内容）"]
["敷地の形状、高さ、衛生及び安全"]
[]
[]
[]
["主要構造部及び主要構造部以外の構造耐力上主要な部分に用いる材料（接合材料を含む）の種類、品質、形状及び寸法"]
[]
[]
[]
[]
[]
["主要構造部及び主要構造部以外の構造耐力上主要な部分に用いる材料の接合状況、接合部分の形状等"]
[]
[]
[]
[]
[]
["建築物の各部分の位置、形状及び大きさ"]
[]
[]
["構造耐力上主要な部分の防錆、防腐及び防蟻措置及び状況"]
[]
[]
[]
[]
["特定天井に用いる材料の種類並びに当該特定天井の構造及び施工状況"]
[]
[]
[]
["居室の内装の仕上げに用いる建築材料の種別及び当該建築材料を用いる部分の面積"]
[]
[]
[]
["天井及び壁の室内に面する部分に係る仕上げの材料の種別及び厚さ"]
[]
[]
[]
[]
["開口部に設ける建具の種類及び大きさ"]
[]
[]
[]
["建築設備に用いる材料の種類及びその照合した内容並びに当該建築設備の構造及び施工状況（区画貫通部の処理状況を含む。）"]
[]
[]
[]
[]
[]
["備考"]

{"sheet":"検査予約申込書","index":29,"n_rows":37,"n_cols":28,"rows_kept":37,"cut":false,"hidden":false,"merged":[[22,1,25,7],[22,8,22,12],[22,13,22,27],[23,8,23,12],[23,13,23,27],[24,8,24,12],[24,13,24,27],[25,8,25,12],[25,13,25,27],[26,1,26,7],[26,8,27,27],[27,1,27,7],[29,1,29,27],[30,1,30,27],[20,9,20,12],[20,14,20,17],[15,1,21,7],[21,14,21,17],[16,24,16,27],[17,14,17,17],[17,24,17,27],[18,14,18,17],[19,9,19,12],[19,14,19,17],[15,8,15,9],[15,18,15,19],[16,9,16,12],[16,13,16,17],[16,19,16,22],[13,1,13,7],[13,8,13,12],[13,13,13,17],[13,18,13,22],[13,23,13,27],[14,1,14,7],[14,8,14,12],[14,13,14,16],[14,23,14,27],[14,18,14,22],[10,1,10,7],[10,8,10,27],[11,1,12,7],[11,8,12,27],[8,1,9,7],[8,8,8,9],[8,10,8,12],[8,22,8,26],[9,8,9,9],[9,13,9,16],[9,21,9,26],[2,0,2,27],[4,1,4,27],[5,1,5,12],[5,13,5,27],[7,1,7,7],[7,9,7,10],[7,12,7,13],[7,16,7,17]]}
[]
[]
["検　査　予　約　申　込　書"]
[]
[null,"この予約申込書を当社までFAX下さい"]
[null,"宛先　株式会社  香川県建築住宅センター　",null,null,null,null,null,null,null,null,null,null,null,"FAX　087－832－5271"]
[]
[null,"希　望　日　",null,null,null,null,null,null,null,null,null,"月",null,null,"日","（",null,null,"）"]
[null,"確認済証番号",null,null,null,null,null,null,"□",null,"当社",null,null,null,null,null,null,null,"（番号）第確",null,null,null,null,null,null,null,null,"号"]
[null,null,null,null,null,null,null,null,"□",null,"その他（",null,null,null,null,null,null,"）","（番号）",null,null,null,null,null,null,null,null,"号"]
[null,"建　築　主　名　等",null,null,null,null,null,null,{"$f":"確認申請書第二面!E184","v":0}]
[null,"建　築　場　所",null,null,null,null,null,null,{"$f":"確認申請書第三面!F5","v":0}]
[]
[null,"用途・規模・構造",null,null,null,null,null,null,"用　途",null,null,null,null,"申 請 面 積",null,null,null,null,"構　造",null,null,null,null,"階　数"]
[null,"(他の機関で確認を受けた場合はご記入下さい)",null,null,null,null,null,null,{"$f":"確認申請書第四面!K8","v":0},null,null,null,null,null,null,null,null,"㎡",{"$f":"確認申請書第四面!F19","v":0},null,null,null,null,{"$f":"確認申請書第三面!K89","v":0}]
[null,"検　査　種　別",null,null,null,null,null,null,"□",null,"中　間　検　査",null,null,null,null,null,null,null,"□",null,"完　了（竣　工）検　査"]
[null,null,null,null,null,null,null,null,"□","建築基準法",null,null,null,"瑕疵担保保険",null,null,null,null,"□","建築基準法",null,null,null,"□","適 合 証 明"]
[null,null,null,null,null,null,null,null,null,null,null,null,null,"□","まもりすまい",null,null,null,null,null,null,null,null,null,"（フラット３５）"]
[null,null,null,null,null,null,null,null,null,null,null,null,null,"□","あんしん"]
[null,null,null,null,null,null,null,null,"□","適 合 証 明",null,null,null,"□","ＪＩＯ"]
[null,null,null,null,null,null,null,null,null,"（フラット３５）",null,null,null,"□","ハウスプラス"]
[null,null,null,null,null,null,null,null,null,null,null,null,null,"□","ハウスジーメン"]
[null,"御　担　当  者",null,null,null,null,null,null,"会 社 名"]
[null,null,null,null,null,null,null,null,"氏 名"]
[null,null,null,null,null,null,null,null,"電 話 番 号"]
[null,null,null,null,null,null,null,null,"携 帯 電 話          （ 立 会 者 ）"]
[null,"備　考"]
[null,"(連絡事項がある場合はご記入下さい)"]
[]
[null,"・検査予約は1週間前までにお願いします。（混み合う時期には希望に沿えない場合がございます）"]
[null,"・検査希望日の４日前までに検査申請書の提出をお願いします。"]
[null,"・検査時間は、原則として検査日の前日の夕方までに御連絡させて頂きます。"]
[null,"・ご不明な点があれば、下記まで御連絡下さい。"]
[]
[]
[null,"〒760－0068　高松市松島町１丁目１３番１４号　九十九ビル２Ｆ"]
[null,"T E L ： 087－832－5270",null,null,null,null,null,null,null,null,null,"F A X ： 087－832－5271"]